FILENAME: O4511160.NES.979541.tif
QUADRANGLE_NAME: NO MAN PEAK
QUADRANT: NE
WEST_LONGITUDE: -111 33 45.00000
EAST_LONGITUDE: -111 30 0.00000
NORTH_LATITUDE: 45 7 30.00000
SOUTH_LATITUDE: 45 3 45.00000
PRODUCTION_DATE: 1999 3 9
RASTER_ORDER: LEFT_RIGHT/TOP_BOTTOM
BAND_ORGANIZATION: SINGLE FILE
BAND_CONTENT: BLACK&WHITE
BAND_CONTENT: UNDEFINED
BAND_CONTENT: UNDEFINED
BITS_PER_PIXEL: 8
SAMPLES_AND_LINES: 5630 7586
HORIZONTAL_DATUM: NAD83
HORIZONTAL_COORDINATE_SYSTEM: UTM
COORDINATE_ZONE: 12
HORIZONTAL_UNITS: METERS
HORIZONTAL_RESOLUTION: 1.00000
SECONDARY_HORIZONTAL_DATUM: NAD27
XY_ORIGIN: 455350.00000 4997291.00000
SECONDARY_XY_ORIGIN: 455411.61300 4997081.32300
NATION: US
NATION: "SCIENCE
STATE: MT
NW_QUAD_CORNER_XY: 455762.90000 4996990.35200
NE_QUAD_CORNER_XY: 460678.13300 4996958.05500
SE_QUAD_CORNERY_XY: 460635.21800 4990014.98300
SW_QUAD_CORNER_XY: 455714.62100 4990047.28100
SECONDARY_NW_QUAD_XY: 455761.59100 4996773.05600
SECONDARY_NE_QUAD_XY: 460676.96900 4996740.75800
SECONDARY_SE_QUAD_XY: 460634.05500 4989797.74100
SECONDARY_SW_QUAD_XY: 455713.31200 4989830.03900
RMSE_XY: 2.20000
IMAGE_SOURCE: BLACK AND WHITE FILM
SOURCE_IMAGE_ID: NAPP 8374 109
SOURCE_IMAGE_DATE: 1995 08 12
SOURCE_IMAGE_ID: NAPP 8376 112
SOURCE_IMAGE_DATE: 1995 08 15
SOURCE_IMAGE_ID: NAPP 8374 110
SOURCE_IMAGE_DATE: 1995 08 12
SOURCE_IMAGE_ID: NAPP 8374 108
SOURCE_IMAGE_DATE: 1995 08 12
SOURCE_IMAGE_ID: NAPP 8374 081
SOURCE_IMAGE_DATE: 1995 08 12
SOURCE_DEM_DATE: 1992 00 00
AGENCY: WESTERN MAPPING CENTER (WMC)
PRODUCER: UNDEFINED
PRODUCTION_SYSTEM: GIS/MAGIC
COMPRESSION: UNDEFINED
STANDARD_VERSION: 1996 12
METADATA_DATE: 1999 03 26
DATA_FILE_SIZE: 42714810
BYTE_COUNT: 5630
