FILENAME: O4511160.SWS.979549.tif
QUADRANGLE_NAME: NO MAN PEAK
QUADRANT: SW
WEST_LONGITUDE: -111 37 30.00000
EAST_LONGITUDE: -111 33 45.00000
NORTH_LATITUDE: 45 3 45.00000
SOUTH_LATITUDE: 45 0 0.00000
PRODUCTION_DATE: 1999 3 9
RASTER_ORDER: LEFT_RIGHT/TOP_BOTTOM
BAND_ORGANIZATION: SINGLE FILE
BAND_CONTENT: BLACK&WHITE
BAND_CONTENT: UNDEFINED
BAND_CONTENT: UNDEFINED
BITS_PER_PIXEL: 8
SAMPLES_AND_LINES: 5640 7590
HORIZONTAL_DATUM: NAD83
HORIZONTAL_COORDINATE_SYSTEM: UTM
COORDINATE_ZONE: 12
HORIZONTAL_UNITS: METERS
HORIZONTAL_RESOLUTION: 1.00000
SECONDARY_HORIZONTAL_DATUM: NAD27
XY_ORIGIN: 450376.00000 4990384.00000
SECONDARY_XY_ORIGIN: 450437.70500 4990174.41200
NATION: US
NATION: "SCIENCE
STATE: MT
NW_QUAD_CORNER_XY: 450794.02300 4990083.37800
NE_QUAD_CORNER_XY: 455714.62100 4990047.28100
SE_QUAD_CORNERY_XY: 455666.39500 4983104.28400
SW_QUAD_CORNER_XY: 450740.43800 4983140.38200
SECONDARY_NW_QUAD_XY: 450792.56900 4989866.13700
SECONDARY_NE_QUAD_XY: 455713.31200 4989830.03900
SECONDARY_SE_QUAD_XY: 455665.08600 4982887.09800
SECONDARY_SW_QUAD_XY: 450738.98400 4982923.19600
RMSE_XY: 2.00000
IMAGE_SOURCE: BLACK AND WHITE FILM
SOURCE_IMAGE_ID: NAPP 8376 115
SOURCE_IMAGE_DATE: 1995 08 15
SOURCE_IMAGE_ID: NAPP 8376 116
SOURCE_IMAGE_DATE: 1995 08 15
SOURCE_DEM_DATE: 1992 00 00
AGENCY: WESTERN MAPPING CENTER (WMC)
PRODUCER: UNDEFINED
PRODUCTION_SYSTEM: GIS/MAGIC
COMPRESSION: UNDEFINED
STANDARD_VERSION: 1996 12
METADATA_DATE: 1999 03 26
DATA_FILE_SIZE: 42813240
BYTE_COUNT: 5640
