FILENAME: O4511159.NES.971449.tif
QUADRANGLE_NAME: BUCKS NEST
QUADRANT: NE
WEST_LONGITUDE: -111 41 15.00000
EAST_LONGITUDE: -111 37 30.00000
NORTH_LATITUDE: 45 7 30.00000
SOUTH_LATITUDE: 45 3 45.00000
PRODUCTION_DATE: 1999 2 25
RASTER_ORDER: LEFT_RIGHT/TOP_BOTTOM
BAND_ORGANIZATION: SINGLE FILE
BAND_CONTENT: BLACK&WHITE
BAND_CONTENT: UNDEFINED
BAND_CONTENT: UNDEFINED
BITS_PER_PIXEL: 8
SAMPLES_AND_LINES: 5640 7594
HORIZONTAL_DATUM: NAD83
HORIZONTAL_COORDINATE_SYSTEM: UTM
COORDINATE_ZONE: 12
HORIZONTAL_UNITS: METERS
HORIZONTAL_RESOLUTION: 1.00000
SECONDARY_HORIZONTAL_DATUM: NAD27
XY_ORIGIN: 445509.00000 4997367.00000
SECONDARY_XY_ORIGIN: 445570.73100 4997157.30300
NATION: US
NATION: "SCIENCE
STATE: MT
NW_QUAD_CORNER_XY: 445932.43400 4997066.34600
NE_QUAD_CORNER_XY: 450847.66700 4997026.44900
SE_QUAD_CORNERY_XY: 450794.02300 4990083.37800
SW_QUAD_CORNER_XY: 445873.42600 4990123.27500
SECONDARY_NW_QUAD_XY: 445930.83400 4996849.05300
SECONDARY_NE_QUAD_XY: 450846.21200 4996809.15500
SECONDARY_SE_QUAD_XY: 450792.56900 4989866.13700
SECONDARY_SW_QUAD_XY: 445871.82600 4989906.03600
RMSE_XY: 0.70000
IMAGE_SOURCE: BLACK AND WHITE FILM
SOURCE_IMAGE_ID: NAPP 8371 159
SOURCE_IMAGE_DATE: 1995 06 30
SOURCE_DEM_DATE: 1997 01 01
AGENCY: WESTERN MAPPING CENTER (WMC)
PRODUCER: UNDEFINED
PRODUCTION_SYSTEM: GIS/MAGIC
COMPRESSION: UNDEFINED
STANDARD_VERSION: 1996 12
METADATA_DATE: 1999 03 01
DATA_FILE_SIZE: 42835800
BYTE_COUNT: 5640
