FILENAME: O4511158.SWS.789342.tif
QUADRANGLE_NAME: BROOMTAIL RIDGE
QUADRANT: SW
WEST_LONGITUDE: -111 52 30.00000
EAST_LONGITUDE: -111 48 45.00000
NORTH_LATITUDE: 45 3 45.00000
SOUTH_LATITUDE: 45 0 0.00000
PRODUCTION_DATE: 1997 11 24
RASTER_ORDER: LEFT_RIGHT/TOP_BOTTOM
BAND_ORGANIZATION: SINGLE FILE
BAND_CONTENT: BLACK&WHITE
BAND_CONTENT: UNDEFINED
BAND_CONTENT: UNDEFINED
BITS_PER_PIXEL: 8
SAMPLES_AND_LINES: 5659 7602
HORIZONTAL_DATUM: NAD83
HORIZONTAL_COORDINATE_SYSTEM: UTM
COORDINATE_ZONE: 12
HORIZONTAL_UNITS: METERS
HORIZONTAL_RESOLUTION: 1.00000
SECONDARY_HORIZONTAL_DATUM: NAD27
XY_ORIGIN: 430673.64400 4990565.26800
SECONDARY_XY_ORIGIN: 430735.12900 4990355.86100
NATION: US
STATE: MT
NW_QUAD_CORNER_XY: 431111.63300 4990265.76800
NE_QUAD_CORNER_XY: 436032.23100 4990214.47000
SE_QUAD_CORNERY_XY: 435962.56800 4983271.47400
SW_QUAD_CORNER_XY: 431036.61100 4983322.77200
SECONDARY_NW_QUAD_XY: 431109.59700 4990048.53300
SECONDARY_NE_QUAD_XY: 436030.34000 4989997.23400
SECONDARY_SE_QUAD_XY: 435960.67800 4983054.29300
SECONDARY_SW_QUAD_XY: 431034.57600 4983105.59200
RMSE_XY: 2.40000
IMAGE_SOURCE: BLACK AND WHITE FILM
SOURCE_IMAGE_ID: NAPP 8376 228
SOURCE_IMAGE_DATE: 1995 8 15
SOURCE_DEM_DATE: 1997 11 24
AGENCY: WESTERN MAPPING CENTER (WMC)
PRODUCER: NIES MAPPING GROUP
PRODUCTION_SYSTEM: INTERGRAPH- ISPM,ISIR
COMPRESSION: UNDEFINED
STANDARD_VERSION: 1996 12
METADATA_DATE: 1998 2 27
DATA_FILE_SIZE: 43025377
BYTE_COUNT: 5659
