FILENAME: O4511155.NWS.830067.tif
QUADRANGLE_NAME: LONE INDIAN PEAK
QUADRANT: NW
WEST_LONGITUDE: -111 15 0.00000
EAST_LONGITUDE: -111 11 15.00000
NORTH_LATITUDE: 45 15 0.00000
SOUTH_LATITUDE: 45 11 15.00000
PRODUCTION_DATE: 1997 11 4
RASTER_ORDER: LEFT_RIGHT/TOP_BOTTOM
BAND_ORGANIZATION: SINGLE FILE
BAND_CONTENT: BLACK&WHITE
BAND_CONTENT: UNDEFINED
BAND_CONTENT: UNDEFINED
BITS_PER_PIXEL: 8
SAMPLES_AND_LINES: 5591 7568
HORIZONTAL_DATUM: NAD83
HORIZONTAL_COORDINATE_SYSTEM: UTM
COORDINATE_ZONE: 12
HORIZONTAL_UNITS: METERS
HORIZONTAL_RESOLUTION: 1.00000
SECONDARY_HORIZONTAL_DATUM: NAD27
XY_ORIGIN: 479997.00000 5011054.00000
SECONDARY_XY_ORIGIN: 480058.18000 5010844.32200
NATION: US
NATION: "SCIENCE
STATE: MT
NW_QUAD_CORNER_XY: 480382.05000 5010753.23700
NE_QUAD_CORNER_XY: 485286.53800 5010739.93900
SE_QUAD_CORNERY_XY: 485270.41000 5003796.71500
SW_QUAD_CORNER_XY: 480360.54600 5003810.01300
SECONDARY_NW_QUAD_XY: 480381.46800 5010535.83200
SECONDARY_NE_QUAD_XY: 485286.10100 5010522.53300
SECONDARY_SE_QUAD_XY: 485269.97300 5003579.36100
SECONDARY_SW_QUAD_XY: 480359.96400 5003592.66000
RMSE_XY: 1.80000
IMAGE_SOURCE: BLACK AND WHITE FILM
SOURCE_IMAGE_ID: NAPP 8375 110
SOURCE_IMAGE_DATE: 1995 08 12
SOURCE_DEM_DATE: 1997 01 01
AGENCY: WESTERN MAPPING CENTER (WMC)
PRODUCER: UNDEFINED
PRODUCTION_SYSTEM: GIS/MAGIC
COMPRESSION: UNDEFINED
STANDARD_VERSION: 1996 12
METADATA_DATE: 1997 11 13
DATA_FILE_SIZE: 42318279
BYTE_COUNT: 5591
