FILENAME: O4511154.SWS.830106.tif
QUADRANGLE_NAME: OUSEL FALLS
QUADRANT: SW
WEST_LONGITUDE: -111 22 30.00000
EAST_LONGITUDE: -111 18 45.00000
NORTH_LATITUDE: 45 11 15.00000
SOUTH_LATITUDE: 45 7 30.00000
PRODUCTION_DATE: 1997 11 4
RASTER_ORDER: LEFT_RIGHT/TOP_BOTTOM
BAND_ORGANIZATION: SINGLE FILE
BAND_CONTENT: BLACK&WHITE
BAND_CONTENT: UNDEFINED
BAND_CONTENT: UNDEFINED
BITS_PER_PIXEL: 8
SAMPLES_AND_LINES: 5607 7575
HORIZONTAL_DATUM: NAD83
HORIZONTAL_COORDINATE_SYSTEM: UTM
COORDINATE_ZONE: 12
HORIZONTAL_UNITS: METERS
HORIZONTAL_RESOLUTION: 1.00000
SECONDARY_HORIZONTAL_DATUM: NAD27
XY_ORIGIN: 470145.00000 5004149.00000
SECONDARY_XY_ORIGIN: 470206.37200 5003939.32000
NATION: US
NATION: "SCIENCE
STATE: MT
NW_QUAD_CORNER_XY: 470540.82000 5003848.00800
NE_QUAD_CORNER_XY: 475450.68300 5003827.11100
SE_QUAD_CORNERY_XY: 475423.83300 4996883.96300
SW_QUAD_CORNER_XY: 470508.59900 4996904.86000
SECONDARY_NW_QUAD_XY: 470539.94700 5003630.65700
SECONDARY_NE_QUAD_XY: 475449.95600 5003609.75800
SECONDARY_SE_QUAD_XY: 475423.10500 4996666.66400
SECONDARY_SW_QUAD_XY: 470507.72600 4996687.56200
RMSE_XY: 1.90000
IMAGE_SOURCE: BLACK AND WHITE FILM
SOURCE_IMAGE_ID: NAPP 8374 018
SOURCE_IMAGE_DATE: 1995 08 12
SOURCE_IMAGE_ID: NAPP 8374 019
SOURCE_IMAGE_DATE: 1995 08 12
SOURCE_DEM_DATE: 1997 01 01
AGENCY: WESTERN MAPPING CENTER (WMC)
PRODUCER: UNDEFINED
PRODUCTION_SYSTEM: GIS/MAGIC
COMPRESSION: UNDEFINED
STANDARD_VERSION: 1996 12
METADATA_DATE: 1997 11 13
DATA_FILE_SIZE: 42478632
BYTE_COUNT: 5607
