FILENAME: O4511153.NES.980490.tif
QUADRANGLE_NAME: SPHINX MOUNTAIN
QUADRANT: NE
WEST_LONGITUDE: -111 26 15.00000
EAST_LONGITUDE: -111 22 30.00000
NORTH_LATITUDE: 45 15 0.00000
SOUTH_LATITUDE: 45 11 15.00000
PRODUCTION_DATE: 1999 3 10
RASTER_ORDER: LEFT_RIGHT/TOP_BOTTOM
BAND_ORGANIZATION: SINGLE FILE
BAND_CONTENT: BLACK&WHITE
BAND_CONTENT: UNDEFINED
BAND_CONTENT: UNDEFINED
BITS_PER_PIXEL: 8
SAMPLES_AND_LINES: 5608 7578
HORIZONTAL_DATUM: NAD83
HORIZONTAL_COORDINATE_SYSTEM: UTM
COORDINATE_ZONE: 12
HORIZONTAL_UNITS: METERS
HORIZONTAL_RESOLUTION: 1.00000
SECONDARY_HORIZONTAL_DATUM: NAD27
XY_ORIGIN: 465267.00000 5011116.00000
SECONDARY_XY_ORIGIN: 465328.40700 5010906.20200
NATION: US
NATION: "SCIENCE
STATE: MT
NW_QUAD_CORNER_XY: 465668.59000 5010815.92900
NE_QUAD_CORNER_XY: 470573.07600 5010791.23200
SE_QUAD_CORNERY_XY: 470540.82000 5003848.00800
SW_QUAD_CORNER_XY: 465630.95700 5003872.70600
SECONDARY_NW_QUAD_XY: 465667.57100 5010598.52600
SECONDARY_NE_QUAD_XY: 470572.20300 5010573.82800
SECONDARY_SE_QUAD_XY: 470539.94700 5003630.65700
SECONDARY_SW_QUAD_XY: 465629.93900 5003655.35500
RMSE_XY: 2.40000
IMAGE_SOURCE: BLACK AND WHITE FILM
SOURCE_IMAGE_ID: NAPP 8374 039
SOURCE_IMAGE_DATE: 1995 08 12
SOURCE_DEM_DATE: 1997 01 01
AGENCY: WESTERN MAPPING CENTER (WMC)
PRODUCER: UNDEFINED
PRODUCTION_SYSTEM: GIS/MAGIC
COMPRESSION: UNDEFINED
STANDARD_VERSION: 1996 12
METADATA_DATE: 1999 03 26
DATA_FILE_SIZE: 42503032
BYTE_COUNT: 5608
