FILENAME: O4511152.NWS.979662.tif
QUADRANGLE_NAME: LAKE CAMERON
QUADRANT: NW
WEST_LONGITUDE: -111 37 30.00000
EAST_LONGITUDE: -111 33 45.00000
NORTH_LATITUDE: 45 15 0.00000
SOUTH_LATITUDE: 45 11 15.00000
PRODUCTION_DATE: 1999 3 10
RASTER_ORDER: LEFT_RIGHT/TOP_BOTTOM
BAND_ORGANIZATION: SINGLE FILE
BAND_CONTENT: BLACK&WHITE
BAND_CONTENT: UNDEFINED
BAND_CONTENT: UNDEFINED
BITS_PER_PIXEL: 8
SAMPLES_AND_LINES: 5624 7590
HORIZONTAL_DATUM: NAD83
HORIZONTAL_COORDINATE_SYSTEM: UTM
COORDINATE_ZONE: 12
HORIZONTAL_UNITS: METERS
HORIZONTAL_RESOLUTION: 1.00000
SECONDARY_HORIZONTAL_DATUM: NAD27
XY_ORIGIN: 450537.00000 5011213.00000
SECONDARY_XY_ORIGIN: 450598.60500 5011003.11700
NATION: US
NATION: "SCIENCE
STATE: MT
NW_QUAD_CORNER_XY: 450955.13200 5010912.81900
NE_QUAD_CORNER_XY: 455859.61700 5010876.72200
SE_QUAD_CORNERY_XY: 455811.23200 5003933.50000
SW_QUAD_CORNER_XY: 450901.37000 5003969.59600
SECONDARY_NW_QUAD_XY: 450953.67600 5010695.41800
SECONDARY_NE_QUAD_XY: 455858.30700 5010659.32100
SECONDARY_SE_QUAD_XY: 455809.92300 5003716.15000
SECONDARY_SW_QUAD_XY: 450899.91500 5003752.24800
RMSE_XY: 1.40000
IMAGE_SOURCE: BLACK AND WHITE FILM
SOURCE_IMAGE_ID: NAPP 8376 109
SOURCE_IMAGE_DATE: 1995 08 15
SOURCE_IMAGE_ID: NAPP 8376 108
SOURCE_IMAGE_DATE: 1995 08 15
SOURCE_IMAGE_ID: NAPP 8374 104
SOURCE_IMAGE_DATE: 1995 08 12
SOURCE_DEM_DATE: 1992 00 00
AGENCY: WESTERN MAPPING CENTER (WMC)
PRODUCER: UNDEFINED
PRODUCTION_SYSTEM: GIS/MAGIC
COMPRESSION: UNDEFINED
STANDARD_VERSION: 1996 12
METADATA_DATE: 1999 03 26
DATA_FILE_SIZE: 42691784
BYTE_COUNT: 5624
