FILENAME: O4511150.NES.789273.tif
QUADRANGLE_NAME: VARNEY
QUADRANT: NE
WEST_LONGITUDE: -111 48 45.00000
EAST_LONGITUDE: -111 45 0.00000
NORTH_LATITUDE: 45 15 0.00000
SOUTH_LATITUDE: 45 11 15.00000
PRODUCTION_DATE: 1997 10 30
RASTER_ORDER: LEFT_RIGHT/TOP_BOTTOM
BAND_ORGANIZATION: SINGLE FILE
BAND_CONTENT: BLACK&WHITE
BAND_CONTENT: UNDEFINED
BAND_CONTENT: UNDEFINED
BITS_PER_PIXEL: 8
SAMPLES_AND_LINES: 5638 7598
HORIZONTAL_DATUM: NAD83
HORIZONTAL_COORDINATE_SYSTEM: UTM
COORDINATE_ZONE: 12
HORIZONTAL_UNITS: METERS
HORIZONTAL_RESOLUTION: 1.00000
SECONDARY_HORIZONTAL_DATUM: NAD27
XY_ORIGIN: 435808.70600 5011343.40800
SECONDARY_XY_ORIGIN: 435870.40800 5011133.50800
NATION: US
STATE: MT
NW_QUAD_CORNER_XY: 436241.67700 5011043.90800
NE_QUAD_CORNER_XY: 441146.16200 5010996.41200
SE_QUAD_CORNERY_XY: 441081.64600 5004053.19000
SW_QUAD_CORNER_XY: 436171.78500 5004100.68700
SECONDARY_NW_QUAD_XY: 436239.78500 5010826.51100
SECONDARY_NE_QUAD_XY: 441144.41500 5010779.01300
SECONDARY_SE_QUAD_XY: 441079.90000 5003835.84500
SECONDARY_SW_QUAD_XY: 436169.89400 5003883.34300
RMSE_XY: 1.80000
IMAGE_SOURCE: BLACK AND WHITE FILM
SOURCE_IMAGE_ID: NAPP 8371 31
SOURCE_IMAGE_DATE: 1995 6 30
SOURCE_DEM_DATE: 1997 10 30
AGENCY: WESTERN MAPPING CENTER (WMC)
PRODUCER: NIES MAPPING GROUP
PRODUCTION_SYSTEM: INTERGRAPH- ISPM,ISIR
COMPRESSION: UNDEFINED
STANDARD_VERSION: 1996 12
METADATA_DATE: 1998 2 20
DATA_FILE_SIZE: 42843162
BYTE_COUNT: 5638
