FILENAME: O4511150.SES.789275.tif
QUADRANGLE_NAME: VARNEY
QUADRANT: SE
WEST_LONGITUDE: -111 48 45.00000
EAST_LONGITUDE: -111 45 0.00000
NORTH_LATITUDE: 45 11 15.00000
SOUTH_LATITUDE: 45 7 30.00000
PRODUCTION_DATE: 1997 10 30
RASTER_ORDER: LEFT_RIGHT/TOP_BOTTOM
BAND_ORGANIZATION: SINGLE FILE
BAND_CONTENT: BLACK&WHITE
BAND_CONTENT: UNDEFINED
BAND_CONTENT: UNDEFINED
BITS_PER_PIXEL: 8
SAMPLES_AND_LINES: 5643 7598
HORIZONTAL_DATUM: NAD83
HORIZONTAL_COORDINATE_SYSTEM: UTM
COORDINATE_ZONE: 12
HORIZONTAL_UNITS: METERS
HORIZONTAL_RESOLUTION: 1.00000
SECONDARY_HORIZONTAL_DATUM: NAD27
XY_ORIGIN: 435738.90700 5004400.18700
SECONDARY_XY_ORIGIN: 435800.59100 5004190.41800
NATION: US
STATE: MT
NW_QUAD_CORNER_XY: 436171.78500 5004100.68700
NE_QUAD_CORNER_XY: 441081.64600 5004053.19000
SE_QUAD_CORNERY_XY: 441017.20200 4997110.04400
SW_QUAD_CORNER_XY: 436101.97000 4997157.54100
SECONDARY_NW_QUAD_XY: 436169.89400 5003883.34300
SECONDARY_NE_QUAD_XY: 441079.90000 5003835.84500
SECONDARY_SE_QUAD_XY: 441015.45600 4996892.75200
SECONDARY_SW_QUAD_XY: 436100.07900 4996940.25100
RMSE_XY: 1.50000
IMAGE_SOURCE: BLACK AND WHITE FILM
SOURCE_IMAGE_ID: NAPP 8371 33
SOURCE_IMAGE_DATE: 1995 6 30
SOURCE_DEM_DATE: 1997 10 30
AGENCY: WESTERN MAPPING CENTER (WMC)
PRODUCER: NIES MAPPING GROUP
PRODUCTION_SYSTEM: INTERGRAPH- ISPM,ISIR
COMPRESSION: UNDEFINED
STANDARD_VERSION: 1996 12
METADATA_DATE: 1998 2 20
DATA_FILE_SIZE: 42881157
BYTE_COUNT: 5643
