FILENAME: O4511150.SWS.789276.tif
QUADRANGLE_NAME: VARNEY
QUADRANT: SW
WEST_LONGITUDE: -111 52 30.00000
EAST_LONGITUDE: -111 48 45.00000
NORTH_LATITUDE: 45 11 15.00000
SOUTH_LATITUDE: 45 7 30.00000
PRODUCTION_DATE: 1997 10 30
RASTER_ORDER: LEFT_RIGHT/TOP_BOTTOM
BAND_ORGANIZATION: SINGLE FILE
BAND_CONTENT: BLACK&WHITE
BAND_CONTENT: UNDEFINED
BAND_CONTENT: UNDEFINED
BITS_PER_PIXEL: 8
SAMPLES_AND_LINES: 5649 7602
HORIZONTAL_DATUM: NAD83
HORIZONTAL_COORDINATE_SYSTEM: UTM
COORDINATE_ZONE: 12
HORIZONTAL_UNITS: METERS
HORIZONTAL_RESOLUTION: 1.00000
SECONDARY_HORIZONTAL_DATUM: NAD27
XY_ORIGIN: 430823.64300 5004451.48400
SECONDARY_XY_ORIGIN: 430885.26000 5004241.76300
NATION: US
STATE: MT
NW_QUAD_CORNER_XY: 431261.92400 5004151.98400
NE_QUAD_CORNER_XY: 436171.78500 5004100.68700
SE_QUAD_CORNERY_XY: 436101.97000 4997157.54100
SW_QUAD_CORNER_XY: 431186.73800 4997208.83900
SECONDARY_NW_QUAD_XY: 431259.88700 5003934.64200
SECONDARY_NE_QUAD_XY: 436169.89400 5003883.34300
SECONDARY_SE_QUAD_XY: 436100.07900 4996940.25100
SECONDARY_SW_QUAD_XY: 431184.70100 4996991.55000
RMSE_XY: 3.30000
IMAGE_SOURCE: BLACK AND WHITE FILM
SOURCE_IMAGE_ID: NAPP 8375 65
SOURCE_IMAGE_DATE: 1995 8 12
SOURCE_DEM_DATE: 1997 10 30
AGENCY: WESTERN MAPPING CENTER (WMC)
PRODUCER: NIES MAPPING GROUP
PRODUCTION_SYSTEM: INTERGRAPH- ISPM,ISIR
COMPRESSION: UNDEFINED
STANDARD_VERSION: 1996 12
METADATA_DATE: 1998 2 20
DATA_FILE_SIZE: 42949347
BYTE_COUNT: 5649
