FILENAME: O4511149.SES.789271.tif
QUADRANGLE_NAME: CIRQUE LAKE
QUADRANT: SE
WEST_LONGITUDE: -111 56 15.00000
EAST_LONGITUDE: -111 52 30.00000
NORTH_LATITUDE: 45 11 15.00000
SOUTH_LATITUDE: 45 7 30.00000
PRODUCTION_DATE: 1997 11 25
RASTER_ORDER: LEFT_RIGHT/TOP_BOTTOM
BAND_ORGANIZATION: SINGLE FILE
BAND_CONTENT: BLACK&WHITE
BAND_CONTENT: UNDEFINED
BAND_CONTENT: UNDEFINED
BITS_PER_PIXEL: 8
SAMPLES_AND_LINES: 5654 7606
HORIZONTAL_DATUM: NAD83
HORIZONTAL_COORDINATE_SYSTEM: UTM
COORDINATE_ZONE: 12
HORIZONTAL_UNITS: METERS
HORIZONTAL_RESOLUTION: 1.00000
SECONDARY_HORIZONTAL_DATUM: NAD27
XY_ORIGIN: 425908.38100 5004506.58200
SECONDARY_XY_ORIGIN: 425969.93200 5004296.90900
NATION: US
STATE: MT
NW_QUAD_CORNER_XY: 426352.06400 5004207.08200
NE_QUAD_CORNER_XY: 431261.92400 5004151.98400
SE_QUAD_CORNERY_XY: 431186.73800 4997208.83900
SW_QUAD_CORNER_XY: 426271.50600 4997263.93700
SECONDARY_NW_QUAD_XY: 426349.88100 5003989.74100
SECONDARY_NE_QUAD_XY: 431259.88700 5003934.64200
SECONDARY_SE_QUAD_XY: 431184.70100 4996991.55000
SECONDARY_SW_QUAD_XY: 426269.32400 4997046.64900
RMSE_XY: 3.00000
IMAGE_SOURCE: BLACK AND WHITE FILM
SOURCE_IMAGE_ID: NAPP 8376 189
SOURCE_IMAGE_DATE: 1995 8 15
SOURCE_DEM_DATE: 1997 11 25
AGENCY: WESTERN MAPPING CENTER (WMC)
PRODUCER: NIES MAPPING GROUP
PRODUCTION_SYSTEM: INTERGRAPH- ISPM,ISIR
COMPRESSION: UNDEFINED
STANDARD_VERSION: 1996 12
METADATA_DATE: 1998 2 20
DATA_FILE_SIZE: 43009978
BYTE_COUNT: 5654
