FILENAME: O4511149.SWS.789272.tif
QUADRANGLE_NAME: CIRQUE LAKE
QUADRANT: SW
WEST_LONGITUDE: -112 0 0.00000
EAST_LONGITUDE: -111 56 15.00000
NORTH_LATITUDE: 45 11 15.00000
SOUTH_LATITUDE: 45 7 30.00000
PRODUCTION_DATE: 1997 11 25
RASTER_ORDER: LEFT_RIGHT/TOP_BOTTOM
BAND_ORGANIZATION: SINGLE FILE
BAND_CONTENT: BLACK&WHITE
BAND_CONTENT: UNDEFINED
BAND_CONTENT: UNDEFINED
BITS_PER_PIXEL: 8
SAMPLES_AND_LINES: 5659 7610
HORIZONTAL_DATUM: NAD83
HORIZONTAL_COORDINATE_SYSTEM: UTM
COORDINATE_ZONE: 12
HORIZONTAL_UNITS: METERS
HORIZONTAL_RESOLUTION: 1.00000
SECONDARY_HORIZONTAL_DATUM: NAD27
XY_ORIGIN: 420993.11900 5004565.48000
SECONDARY_XY_ORIGIN: 421054.62200 5004355.85100
NATION: US
STATE: MT
NW_QUAD_CORNER_XY: 421442.20400 5004265.98000
NE_QUAD_CORNER_XY: 426352.06400 5004207.08200
SE_QUAD_CORNERY_XY: 426271.50600 4997263.93700
SW_QUAD_CORNER_XY: 421356.27400 4997322.83600
SECONDARY_NW_QUAD_XY: 421439.87600 5004048.64100
SECONDARY_NE_QUAD_XY: 426349.88100 5003989.74100
SECONDARY_SE_QUAD_XY: 426269.32400 4997046.64900
SECONDARY_SW_QUAD_XY: 421353.94700 4997105.55000
RMSE_XY: 2.80000
IMAGE_SOURCE: BLACK AND WHITE FILM
SOURCE_IMAGE_ID: NAPP 8376 154
SOURCE_IMAGE_DATE: 1995 8 15
SOURCE_DEM_DATE: 1997 11 25
AGENCY: WESTERN MAPPING CENTER (WMC)
PRODUCER: NIES MAPPING GROUP
PRODUCTION_SYSTEM: INTERGRAPH- ISPM,ISIR
COMPRESSION: UNDEFINED
STANDARD_VERSION: 1996 12
METADATA_DATE: 1998 2 20
DATA_FILE_SIZE: 43070649
BYTE_COUNT: 5659
