FILENAME: O4511148.SWS.981612.tif
QUADRANGLE_NAME: THE SENTINEL
QUADRANT: SW
WEST_LONGITUDE: -111 7 30.00000
EAST_LONGITUDE: -111 3 45.00000
NORTH_LATITUDE: 45 18 45.00000
SOUTH_LATITUDE: 45 15 0.00000
PRODUCTION_DATE: 1999 3 11
RASTER_ORDER: LEFT_RIGHT/TOP_BOTTOM
BAND_ORGANIZATION: SINGLE FILE
BAND_CONTENT: BLACK&WHITE
BAND_CONTENT: UNDEFINED
BAND_CONTENT: UNDEFINED
BITS_PER_PIXEL: 8
SAMPLES_AND_LINES: 5574 7559
HORIZONTAL_DATUM: NAD83
HORIZONTAL_COORDINATE_SYSTEM: UTM
COORDINATE_ZONE: 12
HORIZONTAL_UNITS: METERS
HORIZONTAL_RESOLUTION: 1.00000
SECONDARY_HORIZONTAL_DATUM: NAD27
XY_ORIGIN: 489828.00000 5017974.00000
SECONDARY_XY_ORIGIN: 489889.05200 5017764.20800
NATION: US
NATION: "SCIENCE
STATE: MT
NW_QUAD_CORNER_XY: 490201.78900 5017673.74200
NE_QUAD_CORNER_XY: 495100.89400 5017668.04200
SE_QUAD_CORNERY_XY: 495095.51200 5010724.74100
SW_QUAD_CORNER_XY: 490191.02500 5010730.44000
SECONDARY_NW_QUAD_XY: 490201.49700 5017456.28400
SECONDARY_NE_QUAD_XY: 495100.74900 5017450.58400
SECONDARY_SE_QUAD_XY: 495095.36700 5010507.33500
SECONDARY_SW_QUAD_XY: 490190.73400 5010513.03400
RMSE_XY: 2.40000
IMAGE_SOURCE: BLACK AND WHITE FILM
SOURCE_IMAGE_ID: NAPP 8375 175
SOURCE_IMAGE_DATE: 1995 08 12
SOURCE_IMAGE_ID: NAPP 8375 160
SOURCE_IMAGE_DATE: 1995 08 12
SOURCE_IMAGE_ID: NAPP 8375 187
SOURCE_IMAGE_DATE: 1995 08 12
SOURCE_IMAGE_ID: NAPP 8375 189
SOURCE_IMAGE_DATE: 1995 08 12
SOURCE_IMAGE_ID: NAPP 8375 177
SOURCE_IMAGE_DATE: 1995 08 12
SOURCE_DEM_DATE: 1997 01 01
AGENCY: WESTERN MAPPING CENTER (WMC)
PRODUCER: UNDEFINED
PRODUCTION_SYSTEM: GIS/MAGIC
COMPRESSION: UNDEFINED
STANDARD_VERSION: 1996 12
METADATA_DATE: 1999 03 26
DATA_FILE_SIZE: 42139440
BYTE_COUNT: 5574
