FILENAME: O4511147.NES.981551.tif
QUADRANGLE_NAME: HIDDEN LAKE
QUADRANT: NE
WEST_LONGITUDE: -111 11 15.00000
EAST_LONGITUDE: -111 7 30.00000
NORTH_LATITUDE: 45 22 30.00000
SOUTH_LATITUDE: 45 18 45.00000
PRODUCTION_DATE: 1999 3 11
RASTER_ORDER: LEFT_RIGHT/TOP_BOTTOM
BAND_ORGANIZATION: SINGLE FILE
BAND_CONTENT: BLACK&WHITE
BAND_CONTENT: UNDEFINED
BAND_CONTENT: UNDEFINED
BITS_PER_PIXEL: 8
SAMPLES_AND_LINES: 5574 7563
HORIZONTAL_DATUM: NAD83
HORIZONTAL_COORDINATE_SYSTEM: UTM
COORDINATE_ZONE: 12
HORIZONTAL_UNITS: METERS
HORIZONTAL_RESOLUTION: 1.00000
SECONDARY_HORIZONTAL_DATUM: NAD27
XY_ORIGIN: 484940.00000 5024927.00000
SECONDARY_XY_ORIGIN: 485001.03500 5024717.19900
NATION: US
NATION: "SCIENCE
STATE: MT
NW_QUAD_CORNER_XY: 485318.84600 5024626.61700
NE_QUAD_CORNER_XY: 490212.56400 5024617.11900
SE_QUAD_CORNERY_XY: 490201.78900 5017673.74200
SW_QUAD_CORNER_XY: 485302.68300 5017683.24000
SECONDARY_NW_QUAD_XY: 485318.40900 5024409.10900
SECONDARY_NE_QUAD_XY: 490212.27300 5024399.61000
SECONDARY_SE_QUAD_XY: 490201.49700 5017456.28400
SECONDARY_SW_QUAD_XY: 485302.24600 5017465.78200
RMSE_XY: 1.80000
IMAGE_SOURCE: BLACK AND WHITE FILM
SOURCE_IMAGE_ID: NAPP 8375 161
SOURCE_IMAGE_DATE: 1995 08 12
SOURCE_IMAGE_ID: NAPP 8375 160
SOURCE_IMAGE_DATE: 1995 08 12
SOURCE_IMAGE_ID: NAPP 8375 162
SOURCE_IMAGE_DATE: 1995 08 12
SOURCE_DEM_DATE: 1997 01 01
AGENCY: WESTERN MAPPING CENTER (WMC)
PRODUCER: UNDEFINED
PRODUCTION_SYSTEM: GIS/MAGIC
COMPRESSION: UNDEFINED
STANDARD_VERSION: 1996 12
METADATA_DATE: 1999 03 26
DATA_FILE_SIZE: 42161736
BYTE_COUNT: 5574
