FILENAME: O4511143.NES.971441.tif
QUADRANGLE_NAME: ENNIS
QUADRANT: NE
WEST_LONGITUDE: -111 41 15.00000
EAST_LONGITUDE: -111 37 30.00000
NORTH_LATITUDE: 45 22 30.00000
SOUTH_LATITUDE: 45 18 45.00000
PRODUCTION_DATE: 1999 2 26
RASTER_ORDER: LEFT_RIGHT/TOP_BOTTOM
BAND_ORGANIZATION: SINGLE FILE
BAND_CONTENT: BLACK&WHITE
BAND_CONTENT: UNDEFINED
BAND_CONTENT: UNDEFINED
BITS_PER_PIXEL: 8
SAMPLES_AND_LINES: 5619 7594
HORIZONTAL_DATUM: NAD83
HORIZONTAL_COORDINATE_SYSTEM: UTM
COORDINATE_ZONE: 12
HORIZONTAL_UNITS: METERS
HORIZONTAL_RESOLUTION: 1.00000
SECONDARY_HORIZONTAL_DATUM: NAD27
XY_ORIGIN: 445745.00000 5025140.00000
SECONDARY_XY_ORIGIN: 445806.60500 5024929.97900
NATION: US
NATION: "SCIENCE
STATE: MT
NW_QUAD_CORNER_XY: 446169.11700 5024839.38400
NE_QUAD_CORNER_XY: 451062.83100 5024799.49000
SE_QUAD_CORNERY_XY: 451008.95200 5017856.11600
SW_QUAD_CORNER_XY: 446109.84900 5017896.01200
SECONDARY_NW_QUAD_XY: 446167.51500 5024621.88200
SECONDARY_NE_QUAD_XY: 451061.37500 5024581.98600
SECONDARY_SE_QUAD_XY: 451007.49600 5017638.66400
SECONDARY_SW_QUAD_XY: 446108.24800 5017678.56100
RMSE_XY: 3.00000
IMAGE_SOURCE: BLACK AND WHITE FILM
SOURCE_IMAGE_ID: NAPP 8375 070
SOURCE_IMAGE_DATE: 1995 08 12
SOURCE_DEM_DATE: 1997 01 01
AGENCY: WESTERN MAPPING CENTER (WMC)
PRODUCER: UNDEFINED
PRODUCTION_SYSTEM: GIS/MAGIC
COMPRESSION: UNDEFINED
STANDARD_VERSION: 1996 12
METADATA_DATE: 1999 03 01
DATA_FILE_SIZE: 42676305
BYTE_COUNT: 5619
