FILENAME: O4511143.SES.971443.tif
QUADRANGLE_NAME: ENNIS
QUADRANT: SE
WEST_LONGITUDE: -111 41 15.00000
EAST_LONGITUDE: -111 37 30.00000
NORTH_LATITUDE: 45 18 45.00000
SOUTH_LATITUDE: 45 15 0.00000
PRODUCTION_DATE: 1999 2 26
RASTER_ORDER: LEFT_RIGHT/TOP_BOTTOM
BAND_ORGANIZATION: SINGLE FILE
BAND_CONTENT: BLACK&WHITE
BAND_CONTENT: UNDEFINED
BAND_CONTENT: UNDEFINED
BITS_PER_PIXEL: 8
SAMPLES_AND_LINES: 5624 7594
HORIZONTAL_DATUM: NAD83
HORIZONTAL_COORDINATE_SYSTEM: UTM
COORDINATE_ZONE: 12
HORIZONTAL_UNITS: METERS
HORIZONTAL_RESOLUTION: 1.00000
SECONDARY_HORIZONTAL_DATUM: NAD27
XY_ORIGIN: 445686.00000 5018197.00000
SECONDARY_XY_ORIGIN: 445747.63600 5017987.03600
NATION: US
NATION: "SCIENCE
STATE: MT
NW_QUAD_CORNER_XY: 446109.84900 5017896.01200
NE_QUAD_CORNER_XY: 451008.95200 5017856.11600
SE_QUAD_CORNERY_XY: 450955.13200 5010912.81900
SW_QUAD_CORNER_XY: 446050.64600 5010952.71500
SECONDARY_NW_QUAD_XY: 446108.24800 5017678.56100
SECONDARY_NE_QUAD_XY: 451007.49600 5017638.66400
SECONDARY_SE_QUAD_XY: 450953.67600 5010695.41800
SECONDARY_SW_QUAD_XY: 446049.04500 5010735.31500
RMSE_XY: 3.20000
IMAGE_SOURCE: BLACK AND WHITE FILM
SOURCE_IMAGE_ID: NAPP 8375 068
SOURCE_IMAGE_DATE: 1995 08 12
SOURCE_DEM_DATE: 1997 01 01
AGENCY: WESTERN MAPPING CENTER (WMC)
PRODUCER: UNDEFINED
PRODUCTION_SYSTEM: GIS/MAGIC
COMPRESSION: UNDEFINED
STANDARD_VERSION: 1996 12
METADATA_DATE: 1999 03 01
DATA_FILE_SIZE: 42714280
BYTE_COUNT: 5624
