FILENAME: O4511142.SWS.789264.tif
QUADRANGLE_NAME: EIGHTMILE CREEK
QUADRANT: SW
WEST_LONGITUDE: -111 52 30.00000
EAST_LONGITUDE: -111 48 45.00000
NORTH_LATITUDE: 45 18 45.00000
SOUTH_LATITUDE: 45 15 0.00000
PRODUCTION_DATE: 1997 11 24
RASTER_ORDER: LEFT_RIGHT/TOP_BOTTOM
BAND_ORGANIZATION: SINGLE FILE
BAND_CONTENT: BLACK&WHITE
BAND_CONTENT: UNDEFINED
BAND_CONTENT: UNDEFINED
BITS_PER_PIXEL: 8
SAMPLES_AND_LINES: 5638 7602
HORIZONTAL_DATUM: NAD83
HORIZONTAL_COORDINATE_SYSTEM: UTM
COORDINATE_ZONE: 12
HORIZONTAL_UNITS: METERS
HORIZONTAL_RESOLUTION: 1.00000
SECONDARY_HORIZONTAL_DATUM: NAD27
XY_ORIGIN: 430973.97400 5018337.99900
SECONDARY_XY_ORIGIN: 431035.65200 5018128.05700
NATION: US
STATE: MT
NW_QUAD_CORNER_XY: 431412.54500 5018038.49900
NE_QUAD_CORNER_XY: 436311.64600 5017987.20300
SE_QUAD_CORNERY_XY: 436241.67700 5011043.90800
SW_QUAD_CORNER_XY: 431337.19400 5011095.20400
SECONDARY_NW_QUAD_XY: 431410.50700 5017821.05200
SECONDARY_NE_QUAD_XY: 436309.75300 5017769.75500
SECONDARY_SE_QUAD_XY: 436239.78500 5010826.51100
SECONDARY_SW_QUAD_XY: 431335.15600 5010877.80900
RMSE_XY: 3.30000
IMAGE_SOURCE: BLACK AND WHITE FILM
SOURCE_IMAGE_ID: NAPP 8375 61
SOURCE_IMAGE_DATE: 1995 8 12
SOURCE_DEM_DATE: 1997 11 24
AGENCY: WESTERN MAPPING CENTER (WMC)
PRODUCER: NIES MAPPING GROUP
PRODUCTION_SYSTEM: INTERGRAPH- ISPM,ISIR
COMPRESSION: UNDEFINED
STANDARD_VERSION: 1996 12
METADATA_DATE: 1998 2 20
DATA_FILE_SIZE: 42865714
BYTE_COUNT: 5638
