FILENAME: O4511140.NES.981605.tif
QUADRANGLE_NAME: MOUNT BLACKMORE
QUADRANT: NE
WEST_LONGITUDE: -111 3 45.00000
EAST_LONGITUDE: -111 0 0.00000
NORTH_LATITUDE: 45 30 0.00000
SOUTH_LATITUDE: 45 26 15.00000
PRODUCTION_DATE: 1999 3 26
RASTER_ORDER: LEFT_RIGHT/TOP_BOTTOM
BAND_ORGANIZATION: SINGLE FILE
BAND_CONTENT: BLACK&WHITE
BAND_CONTENT: UNDEFINED
BAND_CONTENT: UNDEFINED
BITS_PER_PIXEL: 8
SAMPLES_AND_LINES: 5552 7556
HORIZONTAL_DATUM: NAD83
HORIZONTAL_COORDINATE_SYSTEM: UTM
COORDINATE_ZONE: 12
HORIZONTAL_UNITS: METERS
HORIZONTAL_RESOLUTION: 1.00000
SECONDARY_HORIZONTAL_DATUM: NAD27
XY_ORIGIN: 494749.00000 5038799.00000
SECONDARY_XY_ORIGIN: 494809.82800 5038589.09100
NATION: US
NATION: "SCIENCE
STATE: MT
NW_QUAD_CORNER_XY: 495117.07500 5038498.40400
NE_QUAD_CORNER_XY: 500000.00000 5038496.50400
SE_QUAD_CORNERY_XY: 500000.00000 5031552.97400
SW_QUAD_CORNER_XY: 495111.67600 5031554.87400
SECONDARY_NW_QUAD_XY: 495116.92900 5038280.79500
SECONDARY_NE_QUAD_XY: 500000.00000 5038278.89600
SECONDARY_SE_QUAD_XY: 500000.00000 5031335.41500
SECONDARY_SW_QUAD_XY: 495111.53000 5031337.31500
RMSE_XY: 2.50000
IMAGE_SOURCE: BLACK AND WHITE FILM
SOURCE_IMAGE_ID: NAPP 8375 170
SOURCE_IMAGE_DATE: 1995 08 12
SOURCE_IMAGE_ID: NAPP 8375 171
SOURCE_IMAGE_DATE: 1995 08 12
SOURCE_IMAGE_ID: NAPP 8375 169
SOURCE_IMAGE_DATE: 1995 08 12
SOURCE_DEM_DATE: 1988 00 00
AGENCY: WESTERN MAPPING CENTER (WMC)
PRODUCER: UNDEFINED
PRODUCTION_SYSTEM: GIS/MAGIC
COMPRESSION: UNDEFINED
STANDARD_VERSION: 1996 12
METADATA_DATE: 1999 03 26
DATA_FILE_SIZE: 41956464
BYTE_COUNT: 5552
