FILENAME: O4511137.NWS.980452.tif
QUADRANGLE_NAME: WILLOW SWAMP
QUADRANT: NW
WEST_LONGITUDE: -111 30 0.00000
EAST_LONGITUDE: -111 26 15.00000
NORTH_LATITUDE: 45 30 0.00000
SOUTH_LATITUDE: 45 26 15.00000
PRODUCTION_DATE: 1999 3 23
RASTER_ORDER: LEFT_RIGHT/TOP_BOTTOM
BAND_ORGANIZATION: SINGLE FILE
BAND_CONTENT: BLACK&WHITE
BAND_CONTENT: UNDEFINED
BAND_CONTENT: UNDEFINED
BITS_PER_PIXEL: 8
SAMPLES_AND_LINES: 5592 7583
HORIZONTAL_DATUM: NAD83
HORIZONTAL_COORDINATE_SYSTEM: UTM
COORDINATE_ZONE: 12
HORIZONTAL_UNITS: METERS
HORIZONTAL_RESOLUTION: 1.00000
SECONDARY_HORIZONTAL_DATUM: NAD27
XY_ORIGIN: 460529.00000 5038919.00000
SECONDARY_XY_ORIGIN: 460590.31900 5038708.96400
NATION: US
NATION: "SCIENCE
STATE: MT
NW_QUAD_CORNER_XY: 460936.60800 5038618.07600
NE_QUAD_CORNER_XY: 465819.53000 5038589.58300
SE_QUAD_CORNERY_XY: 465781.73300 5031646.05600
SW_QUAD_CORNER_XY: 460893.41100 5031674.55000
SECONDARY_NW_QUAD_XY: 460935.44200 5038400.47200
SECONDARY_NE_QUAD_XY: 465818.51000 5038371.97700
SECONDARY_SE_QUAD_XY: 465780.71400 5031428.49900
SECONDARY_SW_QUAD_XY: 460892.24600 5031456.99500
RMSE_XY: 2.00000
IMAGE_SOURCE: BLACK AND WHITE FILM
SOURCE_IMAGE_ID: NAPP 8374 094
SOURCE_IMAGE_DATE: 1995 08 12
SOURCE_DEM_DATE: 1982 00 00
AGENCY: WESTERN MAPPING CENTER (WMC)
PRODUCER: UNDEFINED
PRODUCTION_SYSTEM: GIS/MAGIC
COMPRESSION: UNDEFINED
STANDARD_VERSION: 1996 12
METADATA_DATE: 1999 03 26
DATA_FILE_SIZE: 42409728
BYTE_COUNT: 5592
