FILENAME: O4511137.SWS.980463.tif
QUADRANGLE_NAME: WILLOW SWAMP
QUADRANT: SW
WEST_LONGITUDE: -111 30 0.00000
EAST_LONGITUDE: -111 26 15.00000
NORTH_LATITUDE: 45 26 15.00000
SOUTH_LATITUDE: 45 22 30.00000
PRODUCTION_DATE: 1999 3 23
RASTER_ORDER: LEFT_RIGHT/TOP_BOTTOM
BAND_ORGANIZATION: SINGLE FILE
BAND_CONTENT: BLACK&WHITE
BAND_CONTENT: UNDEFINED
BAND_CONTENT: UNDEFINED
BITS_PER_PIXEL: 8
SAMPLES_AND_LINES: 5597 7583
HORIZONTAL_DATUM: NAD83
HORIZONTAL_COORDINATE_SYSTEM: UTM
COORDINATE_ZONE: 12
HORIZONTAL_UNITS: METERS
HORIZONTAL_RESOLUTION: 1.00000
SECONDARY_HORIZONTAL_DATUM: NAD27
XY_ORIGIN: 460486.00000 5031975.00000
SECONDARY_XY_ORIGIN: 460547.36000 5031765.01200
NATION: US
NATION: "SCIENCE
STATE: MT
NW_QUAD_CORNER_XY: 460893.41100 5031674.55000
NE_QUAD_CORNER_XY: 465781.73300 5031646.05600
SE_QUAD_CORNERY_XY: 465743.97800 5024702.60400
SW_QUAD_CORNER_XY: 460850.26200 5024731.10000
SECONDARY_NW_QUAD_XY: 460892.24600 5031456.99500
SECONDARY_NE_QUAD_XY: 465780.71400 5031428.49900
SECONDARY_SE_QUAD_XY: 465742.95800 5024485.09800
SECONDARY_SW_QUAD_XY: 460849.09700 5024513.59400
RMSE_XY: 1.60000
IMAGE_SOURCE: BLACK AND WHITE FILM
SOURCE_IMAGE_ID: NAPP 8374 092
SOURCE_IMAGE_DATE: 1995 08 12
SOURCE_IMAGE_ID: NAPP 8374 091
SOURCE_IMAGE_DATE: 1995 08 12
SOURCE_IMAGE_ID: NAPP 8374 093
SOURCE_IMAGE_DATE: 1995 08 12
SOURCE_DEM_DATE: 1982 00 00
AGENCY: WESTERN MAPPING CENTER (WMC)
PRODUCER: UNDEFINED
PRODUCTION_SYSTEM: GIS/MAGIC
COMPRESSION: UNDEFINED
STANDARD_VERSION: 1996 12
METADATA_DATE: 1999 03 26
DATA_FILE_SIZE: 42447648
BYTE_COUNT: 5597
