FILENAME: O4511136.NWS.979625.tif
QUADRANGLE_NAME: CHERRY LAKE
QUADRANT: NW
WEST_LONGITUDE: -111 37 30.00000
EAST_LONGITUDE: -111 33 45.00000
NORTH_LATITUDE: 45 30 0.00000
SOUTH_LATITUDE: 45 26 15.00000
PRODUCTION_DATE: 1999 3 22
RASTER_ORDER: LEFT_RIGHT/TOP_BOTTOM
BAND_ORGANIZATION: SINGLE FILE
BAND_CONTENT: BLACK&WHITE
BAND_CONTENT: UNDEFINED
BAND_CONTENT: UNDEFINED
BITS_PER_PIXEL: 8
SAMPLES_AND_LINES: 5603 7590
HORIZONTAL_DATUM: NAD83
HORIZONTAL_COORDINATE_SYSTEM: UTM
COORDINATE_ZONE: 12
HORIZONTAL_UNITS: METERS
HORIZONTAL_RESOLUTION: 1.00000
SECONDARY_HORIZONTAL_DATUM: NAD27
XY_ORIGIN: 450752.00000 5038987.00000
SECONDARY_XY_ORIGIN: 450813.46800 5038776.90100
NATION: US
NATION: "SCIENCE
STATE: MT
NW_QUAD_CORNER_XY: 451170.76500 5038686.46200
NE_QUAD_CORNER_XY: 456053.68600 5038650.37000
SE_QUAD_CORNERY_XY: 456005.09000 5031706.84400
SW_QUAD_CORNER_XY: 451116.76900 5031742.93800
SECONDARY_NW_QUAD_XY: 451169.30800 5038468.86000
SECONDARY_NE_QUAD_XY: 456052.37500 5038432.76600
SECONDARY_SE_QUAD_XY: 456003.77900 5031489.29000
SECONDARY_SW_QUAD_XY: 451115.31200 5031525.38500
RMSE_XY: 1.70000
IMAGE_SOURCE: BLACK AND WHITE FILM
SOURCE_IMAGE_ID: NAPP 8376 101
SOURCE_IMAGE_DATE: 1995 08 15
SOURCE_IMAGE_ID: NAPP 8371 146
SOURCE_IMAGE_DATE: 1995 06 30
SOURCE_IMAGE_ID: NAPP 8376 102
SOURCE_IMAGE_DATE: 1995 08 15
SOURCE_IMAGE_ID: NAPP 8376 100
SOURCE_IMAGE_DATE: 1995 08 15
SOURCE_DEM_DATE: 1982 00 00
AGENCY: WESTERN MAPPING CENTER (WMC)
PRODUCER: UNDEFINED
PRODUCTION_SYSTEM: GIS/MAGIC
COMPRESSION: UNDEFINED
STANDARD_VERSION: 1996 12
METADATA_DATE: 1999 03 26
DATA_FILE_SIZE: 42532373
BYTE_COUNT: 5603
