FILENAME: O4511136.SWS.979633.tif
QUADRANGLE_NAME: CHERRY LAKE
QUADRANT: SW
WEST_LONGITUDE: -111 37 30.00000
EAST_LONGITUDE: -111 33 45.00000
NORTH_LATITUDE: 45 26 15.00000
SOUTH_LATITUDE: 45 22 30.00000
PRODUCTION_DATE: 1999 3 23
RASTER_ORDER: LEFT_RIGHT/TOP_BOTTOM
BAND_ORGANIZATION: SINGLE FILE
BAND_CONTENT: BLACK&WHITE
BAND_CONTENT: UNDEFINED
BAND_CONTENT: UNDEFINED
BITS_PER_PIXEL: 8
SAMPLES_AND_LINES: 5609 7590
HORIZONTAL_DATUM: NAD83
HORIZONTAL_COORDINATE_SYSTEM: UTM
COORDINATE_ZONE: 12
HORIZONTAL_UNITS: METERS
HORIZONTAL_RESOLUTION: 1.00000
SECONDARY_HORIZONTAL_DATUM: NAD27
XY_ORIGIN: 450698.00000 5032043.00000
SECONDARY_XY_ORIGIN: 450759.50200 5031832.95300
NATION: US
NATION: "SCIENCE
STATE: MT
NW_QUAD_CORNER_XY: 451116.76900 5031742.93800
NE_QUAD_CORNER_XY: 456005.09000 5031706.84400
SE_QUAD_CORNERY_XY: 455956.54600 5024763.39500
SW_QUAD_CORNER_XY: 451062.83100 5024799.49000
SECONDARY_NW_QUAD_XY: 451115.31200 5031525.38500
SECONDARY_NE_QUAD_XY: 456003.77900 5031489.29000
SECONDARY_SE_QUAD_XY: 455955.23500 5024545.89000
SECONDARY_SW_QUAD_XY: 451061.37500 5024581.98600
RMSE_XY: 1.60000
IMAGE_SOURCE: BLACK AND WHITE FILM
SOURCE_IMAGE_ID: NAPP 8376 103
SOURCE_IMAGE_DATE: 1995 08 15
SOURCE_IMAGE_ID: NAPP 8376 104
SOURCE_IMAGE_DATE: 1995 08 15
SOURCE_IMAGE_ID: NAPP 8376 102
SOURCE_IMAGE_DATE: 1995 08 15
SOURCE_DEM_DATE: 1982 00 00
AGENCY: WESTERN MAPPING CENTER (WMC)
PRODUCER: UNDEFINED
PRODUCTION_SYSTEM: GIS/MAGIC
COMPRESSION: UNDEFINED
STANDARD_VERSION: 1996 12
METADATA_DATE: 1999 03 26
DATA_FILE_SIZE: 42577919
BYTE_COUNT: 5609
