FILENAME: O4511134.SES.792734.tif
QUADRANGLE_NAME: LEONARD CREEK
QUADRANT: SE
WEST_LONGITUDE: -111 48 45.00000
EAST_LONGITUDE: -111 45 0.00000
NORTH_LATITUDE: 45 26 15.00000
SOUTH_LATITUDE: 45 22 30.00000
PRODUCTION_DATE: 1997 11 24
RASTER_ORDER: LEFT_RIGHT/TOP_BOTTOM
BAND_ORGANIZATION: SINGLE FILE
BAND_CONTENT: BLACK&WHITE
BAND_CONTENT: UNDEFINED
BAND_CONTENT: UNDEFINED
BITS_PER_PIXEL: 8
SAMPLES_AND_LINES: 5622 7598
HORIZONTAL_DATUM: NAD83
HORIZONTAL_COORDINATE_SYSTEM: UTM
COORDINATE_ZONE: 12
HORIZONTAL_UNITS: METERS
HORIZONTAL_RESOLUTION: 1.00000
SECONDARY_HORIZONTAL_DATUM: NAD27
XY_ORIGIN: 436018.62400 5032173.51900
SECONDARY_XY_ORIGIN: 436080.28100 5031963.42900
NATION: US
STATE: MT
NW_QUAD_CORNER_XY: 436451.81100 5031874.01900
NE_QUAD_CORNER_XY: 441340.13000 5031826.52600
SE_QUAD_CORNERY_XY: 441275.40300 5024883.07900
SW_QUAD_CORNER_XY: 436381.69000 5024930.57400
SECONDARY_NW_QUAD_XY: 436449.91800 5031656.46900
SECONDARY_NE_QUAD_XY: 441338.38100 5031608.97500
SECONDARY_SE_QUAD_XY: 441273.65600 5024665.57800
SECONDARY_SW_QUAD_XY: 436379.79700 5024713.07400
RMSE_XY: 2.10000
IMAGE_SOURCE: BLACK AND WHITE FILM
SOURCE_IMAGE_ID: NAPP 8371 25
SOURCE_IMAGE_DATE: 1995 6 30
SOURCE_DEM_DATE: 1997 11 24
AGENCY: WESTERN MAPPING CENTER (WMC)
PRODUCER: NIES MAPPING GROUP
PRODUCTION_SYSTEM: INTERGRAPH- ISPM,ISIR
COMPRESSION: UNDEFINED
STANDARD_VERSION: 1996 12
METADATA_DATE: 1998 2 20
DATA_FILE_SIZE: 42721578
BYTE_COUNT: 5622
