FILENAME: O4511133.SWS.792731.tif
QUADRANGLE_NAME: RAMSHORN MOUNTAIN
QUADRANT: SW
WEST_LONGITUDE: -112 0 0.00000
EAST_LONGITUDE: -111 56 15.00000
NORTH_LATITUDE: 45 26 15.00000
SOUTH_LATITUDE: 45 22 30.00000
PRODUCTION_DATE: 1997 11 24
RASTER_ORDER: LEFT_RIGHT/TOP_BOTTOM
BAND_ORGANIZATION: SINGLE FILE
BAND_CONTENT: BLACK&WHITE
BAND_CONTENT: UNDEFINED
BAND_CONTENT: UNDEFINED
BITS_PER_PIXEL: 8
SAMPLES_AND_LINES: 5639 7610
HORIZONTAL_DATUM: NAD83
HORIZONTAL_COORDINATE_SYSTEM: UTM
COORDINATE_ZONE: 12
HORIZONTAL_UNITS: METERS
HORIZONTAL_RESOLUTION: 1.00000
SECONDARY_HORIZONTAL_DATUM: NAD27
XY_ORIGIN: 421337.04600 5032338.79800
SECONDARY_XY_ORIGIN: 421398.75400 5032128.74500
NATION: US
STATE: MT
NW_QUAD_CORNER_XY: 421786.86300 5032039.29800
NE_QUAD_CORNER_XY: 426675.17800 5031980.40500
SE_QUAD_CORNERY_XY: 426594.26800 5025036.96300
SW_QUAD_CORNER_XY: 421700.55800 5025095.85800
SECONDARY_NW_QUAD_XY: 421784.53200 5031821.75300
SECONDARY_NE_QUAD_XY: 426672.99300 5031762.85800
SECONDARY_SE_QUAD_XY: 426592.08300 5024819.46600
SECONDARY_SW_QUAD_XY: 421698.22700 5024878.36300
RMSE_XY: 2.00000
IMAGE_SOURCE: BLACK AND WHITE FILM
SOURCE_IMAGE_ID: NAPP 8376 162
SOURCE_IMAGE_DATE: 1995 8 15
SOURCE_DEM_DATE: 1997 11 24
AGENCY: WESTERN MAPPING CENTER (WMC)
PRODUCER: NIES MAPPING GROUP
PRODUCTION_SYSTEM: INTERGRAPH- ISPM,ISIR
COMPRESSION: UNDEFINED
STANDARD_VERSION: 1996 12
METADATA_DATE: 1998 2 20
DATA_FILE_SIZE: 42918429
BYTE_COUNT: 5639
