FILENAME: O4511132.NES.971404.tif
QUADRANGLE_NAME: WHEELER MOUNTAIN
QUADRANT: NE
WEST_LONGITUDE: -111 3 45.00000
EAST_LONGITUDE: -111 0 0.00000
NORTH_LATITUDE: 45 37 30.00000
SOUTH_LATITUDE: 45 33 45.00000
PRODUCTION_DATE: 1999 2 26
RASTER_ORDER: LEFT_RIGHT/TOP_BOTTOM
BAND_ORGANIZATION: SINGLE FILE
BAND_CONTENT: BLACK&WHITE
BAND_CONTENT: UNDEFINED
BAND_CONTENT: UNDEFINED
BITS_PER_PIXEL: 8
SAMPLES_AND_LINES: 5541 7556
HORIZONTAL_DATUM: NAD83
HORIZONTAL_COORDINATE_SYSTEM: UTM
COORDINATE_ZONE: 12
HORIZONTAL_UNITS: METERS
HORIZONTAL_RESOLUTION: 1.00000
SECONDARY_HORIZONTAL_DATUM: NAD27
XY_ORIGIN: 494760.00000 5052686.00000
SECONDARY_XY_ORIGIN: 494820.74900 5052475.99700
NATION: US
NATION: "SCIENCE
STATE: MT
NW_QUAD_CORNER_XY: 495127.89100 5052385.69300
NE_QUAD_CORNER_XY: 500000.00000 5052383.79300
SE_QUAD_CORNERY_XY: 500000.00000 5045440.11100
SW_QUAD_CORNER_XY: 495122.48000 5045442.01000
SECONDARY_NW_QUAD_XY: 495127.74600 5052167.98900
SECONDARY_NE_QUAD_XY: 500000.00000 5052166.08900
SECONDARY_SE_QUAD_XY: 500000.00000 5045222.45400
SECONDARY_SW_QUAD_XY: 495122.33500 5045224.35300
RMSE_XY: 1.40000
IMAGE_SOURCE: BLACK AND WHITE FILM
SOURCE_IMAGE_ID: NAPP 8376 093
SOURCE_IMAGE_DATE: 1995 08 15
SOURCE_DEM_DATE: 1997 00 00
AGENCY: WESTERN MAPPING CENTER (WMC)
PRODUCER: UNDEFINED
PRODUCTION_SYSTEM: GIS/MAGIC
COMPRESSION: UNDEFINED
STANDARD_VERSION: 1996 12
METADATA_DATE: 1999 03 01
DATA_FILE_SIZE: 41873337
BYTE_COUNT: 5541
