FILENAME: O4511130.NES.981471.tif
QUADRANGLE_NAME: RUBY MOUNTAIN
QUADRANT: NE
WEST_LONGITUDE: -111 18 45.00000
EAST_LONGITUDE: -111 15 0.00000
NORTH_LATITUDE: 45 37 30.00000
SOUTH_LATITUDE: 45 33 45.00000
PRODUCTION_DATE: 1999 3 23
RASTER_ORDER: LEFT_RIGHT/TOP_BOTTOM
BAND_ORGANIZATION: SINGLE FILE
BAND_CONTENT: BLACK&WHITE
BAND_CONTENT: UNDEFINED
BAND_CONTENT: UNDEFINED
BITS_PER_PIXEL: 8
SAMPLES_AND_LINES: 5564 7572
HORIZONTAL_DATUM: NAD83
HORIZONTAL_COORDINATE_SYSTEM: UTM
COORDINATE_ZONE: 12
HORIZONTAL_UNITS: METERS
HORIZONTAL_RESOLUTION: 1.00000
SECONDARY_HORIZONTAL_DATUM: NAD27
XY_ORIGIN: 475249.00000 5052732.00000
SECONDARY_XY_ORIGIN: 475309.97900 5052521.98700
NATION: US
NATION: "SCIENCE
STATE: MT
NW_QUAD_CORNER_XY: 475639.45900 5052431.27800
NE_QUAD_CORNER_XY: 480511.56700 5052414.18400
SE_QUAD_CORNERY_XY: 480489.92200 5045470.50200
SW_QUAD_CORNER_XY: 475612.40300 5045487.59800
SECONDARY_NW_QUAD_XY: 475638.73000 5052213.57600
SECONDARY_NE_QUAD_XY: 480510.98400 5052196.48000
SECONDARY_SE_QUAD_XY: 480489.33900 5045252.84600
SECONDARY_SW_QUAD_XY: 475611.67500 5045269.94200
RMSE_XY: 1.80000
IMAGE_SOURCE: BLACK AND WHITE FILM
SOURCE_IMAGE_ID: NAPP 8376 031
SOURCE_IMAGE_DATE: 1995 08 15
SOURCE_IMAGE_ID: NAPP 8376 030
SOURCE_IMAGE_DATE: 1995 08 15
SOURCE_IMAGE_ID: NAPP 8376 037
SOURCE_IMAGE_DATE: 1995 08 15
SOURCE_DEM_DATE: 1998 00 00
AGENCY: WESTERN MAPPING CENTER (WMC)
PRODUCER: UNDEFINED
PRODUCTION_SYSTEM: GIS/MAGIC
COMPRESSION: UNDEFINED
STANDARD_VERSION: 1996 12
METADATA_DATE: 1999 03 26
DATA_FILE_SIZE: 42136172
BYTE_COUNT: 5564
