FILENAME: O4511128.NES.979896.tif
QUADRANGLE_NAME: BEAR TRAP CREEK
QUADRANT: NE
WEST_LONGITUDE: -111 33 45.00000
EAST_LONGITUDE: -111 30 0.00000
NORTH_LATITUDE: 45 37 30.00000
SOUTH_LATITUDE: 45 33 45.00000
PRODUCTION_DATE: 1999 3 23
RASTER_ORDER: LEFT_RIGHT/TOP_BOTTOM
BAND_ORGANIZATION: SINGLE FILE
BAND_CONTENT: BLACK&WHITE
BAND_CONTENT: UNDEFINED
BAND_CONTENT: UNDEFINED
BITS_PER_PIXEL: 8
SAMPLES_AND_LINES: 5587 7586
HORIZONTAL_DATUM: NAD83
HORIZONTAL_COORDINATE_SYSTEM: UTM
COORDINATE_ZONE: 12
HORIZONTAL_UNITS: METERS
HORIZONTAL_RESOLUTION: 1.00000
SECONDARY_HORIZONTAL_DATUM: NAD27
XY_ORIGIN: 455738.00000 5052838.00000
SECONDARY_XY_ORIGIN: 455799.32300 5052627.82600
NATION: US
NATION: "SCIENCE
STATE: MT
NW_QUAD_CORNER_XY: 456151.03600 5052537.64700
NE_QUAD_CORNER_XY: 461023.14100 5052505.35600
SE_QUAD_CORNERY_XY: 460979.85100 5045561.67800
SW_QUAD_CORNER_XY: 456102.33500 5045593.97000
SECONDARY_NW_QUAD_XY: 456149.72400 5052319.94700
SECONDARY_NE_QUAD_XY: 461021.97500 5052287.65600
SECONDARY_SE_QUAD_XY: 460978.68500 5045344.02500
SECONDARY_SW_QUAD_XY: 456101.02300 5045376.31800
RMSE_XY: 1.20000
IMAGE_SOURCE: BLACK AND WHITE FILM
SOURCE_IMAGE_ID: NAPP 8371 077
SOURCE_IMAGE_DATE: 1995 06 30
SOURCE_IMAGE_ID: NAPP 8371 116
SOURCE_IMAGE_DATE: 1995 06 30
SOURCE_IMAGE_ID: NAPP 8371 078
SOURCE_IMAGE_DATE: 1995 06 30
SOURCE_IMAGE_ID: NAPP 8371 076
SOURCE_IMAGE_DATE: 1995 06 30
SOURCE_DEM_DATE: 1998 00 00
AGENCY: WESTERN MAPPING CENTER (WMC)
PRODUCER: UNDEFINED
PRODUCTION_SYSTEM: GIS/MAGIC
COMPRESSION: UNDEFINED
STANDARD_VERSION: 1996 12
METADATA_DATE: 1999 03 26
DATA_FILE_SIZE: 42388569
BYTE_COUNT: 5587
