FILENAME: O4511123.SWS.971381.tif
QUADRANGLE_NAME: BOZEMAN HOT SPRINGS
QUADRANT: SW
WEST_LONGITUDE: -111 15 0.00000
EAST_LONGITUDE: -111 11 15.00000
NORTH_LATITUDE: 45 41 15.00000
SOUTH_LATITUDE: 45 37 30.00000
PRODUCTION_DATE: 1999 2 26
RASTER_ORDER: LEFT_RIGHT/TOP_BOTTOM
BAND_ORGANIZATION: SINGLE FILE
BAND_CONTENT: BLACK&WHITE
BAND_CONTENT: UNDEFINED
BAND_CONTENT: UNDEFINED
BITS_PER_PIXEL: 8
SAMPLES_AND_LINES: 5552 7567
HORIZONTAL_DATUM: NAD83
HORIZONTAL_COORDINATE_SYSTEM: UTM
COORDINATE_ZONE: 12
HORIZONTAL_UNITS: METERS
HORIZONTAL_RESOLUTION: 1.00000
SECONDARY_HORIZONTAL_DATUM: NAD27
XY_ORIGIN: 480149.00000 5059658.00000
SECONDARY_XY_ORIGIN: 480209.84600 5059447.98400
NATION: US
NATION: "SCIENCE
STATE: MT
NW_QUAD_CORNER_XY: 480533.23500 5059357.94100
NE_QUAD_CORNER_XY: 485399.92500 5059344.64600
SE_QUAD_CORNERY_XY: 485383.67500 5052400.88800
SW_QUAD_CORNER_XY: 480511.56700 5052414.18400
SECONDARY_NW_QUAD_XY: 480532.65100 5059140.19100
SECONDARY_NE_QUAD_XY: 485399.48800 5059126.89600
SECONDARY_SE_QUAD_XY: 485383.23700 5052183.18400
SECONDARY_SW_QUAD_XY: 480510.98400 5052196.48000
RMSE_XY: 1.50000
IMAGE_SOURCE: BLACK AND WHITE FILM
SOURCE_IMAGE_ID: NAPP 8376 038
SOURCE_IMAGE_DATE: 1995 08 15
SOURCE_DEM_DATE: 1991 00 00
AGENCY: WESTERN MAPPING CENTER (WMC)
PRODUCER: UNDEFINED
PRODUCTION_SYSTEM: GIS/MAGIC
COMPRESSION: UNDEFINED
STANDARD_VERSION: 1996 12
METADATA_DATE: 1999 03 01
DATA_FILE_SIZE: 42017536
BYTE_COUNT: 5552
