FILENAME: O4511122.NWS.981544.tif
QUADRANGLE_NAME: ANCENEY
QUADRANT: NW
WEST_LONGITUDE: -111 22 30.00000
EAST_LONGITUDE: -111 18 45.00000
NORTH_LATITUDE: 45 45 0.00000
SOUTH_LATITUDE: 45 41 15.00000
PRODUCTION_DATE: 1999 3 23
RASTER_ORDER: LEFT_RIGHT/TOP_BOTTOM
BAND_ORGANIZATION: SINGLE FILE
BAND_CONTENT: BLACK&WHITE
BAND_CONTENT: UNDEFINED
BAND_CONTENT: UNDEFINED
BITS_PER_PIXEL: 8
SAMPLES_AND_LINES: 5559 7575
HORIZONTAL_DATUM: NAD83
HORIZONTAL_COORDINATE_SYSTEM: UTM
COORDINATE_ZONE: 12
HORIZONTAL_UNITS: METERS
HORIZONTAL_RESOLUTION: 1.00000
SECONDARY_HORIZONTAL_DATUM: NAD27
XY_ORIGIN: 470436.00000 5066640.00000
SECONDARY_XY_ORIGIN: 470496.98400 5066429.85400
NATION: US
NATION: "SCIENCE
STATE: MT
NW_QUAD_CORNER_XY: 470832.39200 5066339.76000
NE_QUAD_CORNER_XY: 475693.65800 5066318.86800
SE_QUAD_CORNERY_XY: 475666.54400 5059375.03500
SW_QUAD_CORNER_XY: 470799.85400 5059395.92800
SECONDARY_NW_QUAD_XY: 470831.51600 5066121.96500
SECONDARY_NE_QUAD_XY: 475692.92900 5066101.07300
SECONDARY_SE_QUAD_XY: 475665.81500 5059157.28600
SECONDARY_SW_QUAD_XY: 470798.98000 5059178.17900
RMSE_XY: 1.50000
IMAGE_SOURCE: BLACK AND WHITE FILM
SOURCE_IMAGE_ID: NAPP 8375 089
SOURCE_IMAGE_DATE: 1995 08 12
SOURCE_IMAGE_ID: NAPP 8375 088
SOURCE_IMAGE_DATE: 1995 08 12
SOURCE_IMAGE_ID: NAPP 8375 090
SOURCE_IMAGE_DATE: 1995 08 12
SOURCE_DEM_DATE: 1991 00 00
AGENCY: WESTERN MAPPING CENTER (WMC)
PRODUCER: UNDEFINED
PRODUCTION_SYSTEM: GIS/MAGIC
COMPRESSION: UNDEFINED
STANDARD_VERSION: 1996 12
METADATA_DATE: 1999 03 26
DATA_FILE_SIZE: 42114984
BYTE_COUNT: 5559
