FILENAME: O4511121.NWS.980903.tif
QUADRANGLE_NAME: MADISON PLATEAU
QUADRANT: NW
WEST_LONGITUDE: -111 30 0.00000
EAST_LONGITUDE: -111 26 15.00000
NORTH_LATITUDE: 45 45 0.00000
SOUTH_LATITUDE: 45 41 15.00000
PRODUCTION_DATE: 1999 3 23
RASTER_ORDER: LEFT_RIGHT/TOP_BOTTOM
BAND_ORGANIZATION: SINGLE FILE
BAND_CONTENT: BLACK&WHITE
BAND_CONTENT: UNDEFINED
BAND_CONTENT: UNDEFINED
BITS_PER_PIXEL: 8
SAMPLES_AND_LINES: 5570 7582
HORIZONTAL_DATUM: NAD83
HORIZONTAL_COORDINATE_SYSTEM: UTM
COORDINATE_ZONE: 12
HORIZONTAL_UNITS: METERS
HORIZONTAL_RESOLUTION: 1.00000
SECONDARY_HORIZONTAL_DATUM: NAD27
XY_ORIGIN: 460703.00000 5066693.00000
SECONDARY_XY_ORIGIN: 460764.16400 5066482.77200
NATION: US
NATION: "SCIENCE
STATE: MT
NW_QUAD_CORNER_XY: 461109.86100 5066392.93900
NE_QUAD_CORNER_XY: 465971.12600 5066364.45000
SE_QUAD_CORNERY_XY: 465933.16500 5059420.61900
SW_QUAD_CORNER_XY: 461066.47700 5059449.10900
SECONDARY_NW_QUAD_XY: 461108.69400 5066175.14600
SECONDARY_NE_QUAD_XY: 465970.10500 5066146.65600
SECONDARY_SE_QUAD_XY: 465932.14500 5059202.87100
SECONDARY_SW_QUAD_XY: 461065.31100 5059231.36200
RMSE_XY: 1.50000
IMAGE_SOURCE: BLACK AND WHITE FILM
SOURCE_IMAGE_ID: NAPP 8371 089
SOURCE_IMAGE_DATE: 1995 06 30
SOURCE_IMAGE_ID: NAPP 8371 074
SOURCE_IMAGE_DATE: 1995 06 30
SOURCE_IMAGE_ID: NAPP 8371 108
SOURCE_IMAGE_DATE: 1995 06 30
SOURCE_IMAGE_ID: NAPP 8371 106
SOURCE_IMAGE_DATE: 1995 06 30
SOURCE_IMAGE_ID: NAPP 8371 088
SOURCE_IMAGE_DATE: 1995 06 30
SOURCE_DEM_DATE: 1987 00 00
AGENCY: WESTERN MAPPING CENTER (WMC)
PRODUCER: UNDEFINED
PRODUCTION_SYSTEM: GIS/MAGIC
COMPRESSION: UNDEFINED
STANDARD_VERSION: 1996 12
METADATA_DATE: 1999 03 26
DATA_FILE_SIZE: 42237310
BYTE_COUNT: 5570
