FILENAME: O4511117.SWS.998220.tif
QUADRANGLE_NAME: PONY
QUADRANT: SW
WEST_LONGITUDE: -112 0 0.00000
EAST_LONGITUDE: -111 56 15.00000
NORTH_LATITUDE: 45 41 15.00000
SOUTH_LATITUDE: 45 37 30.00000
PRODUCTION_DATE: 1999 4 8
RASTER_ORDER: LEFT_RIGHT/TOP_BOTTOM
BAND_ORGANIZATION: SINGLE FILE
BAND_CONTENT: BLACK&WHITE
BAND_CONTENT: UNDEFINED
BAND_CONTENT: UNDEFINED
BITS_PER_PIXEL: 8
SAMPLES_AND_LINES: 5620 7613
HORIZONTAL_DATUM: NAD83
HORIZONTAL_COORDINATE_SYSTEM: UTM
COORDINATE_ZONE: 12
HORIZONTAL_UNITS: METERS
HORIZONTAL_RESOLUTION: 1.00000
SECONDARY_HORIZONTAL_DATUM: NAD27
XY_ORIGIN: 421681.00000 5060115.00000
SECONDARY_XY_ORIGIN: 421742.00000 5059905.00000
NATION: US
STATE: MT
NW_QUAD_CORNER_XY: 422133.02100 5059813.79900
NE_QUAD_CORNER_XY: 426999.69800 5059754.91500
SE_QUAD_CORNERY_XY: 426918.43600 5052811.17600
SW_QUAD_CORNER_XY: 422046.34200 5052870.06300
SECONDARY_NW_QUAD_XY: 422130.68800 5059596.06300
SECONDARY_NE_QUAD_XY: 426997.51000 5059537.17800
SECONDARY_SE_QUAD_XY: 426916.24900 5052593.48500
SECONDARY_SW_QUAD_XY: 422044.00900 5052652.37400
RMSE_XY: 2.90000
IMAGE_SOURCE: BLACK AND WHITE FILM
SOURCE_IMAGE_ID: NAPP 8376 170
SOURCE_IMAGE_DATE: 1995 8 15
SOURCE_DEM_DATE: 1981 0 0
AGENCY: ROCKY MOUNTAIN MAPPING CENTER (RMMC)
PRODUCER: ROCKY MOUNTAIN MAPPING CENTER (RMMC)
PRODUCTION_SYSTEM: DV2.6.3 10/9OV2.4 5/95
COMPRESSION: UNDEFINED
STANDARD_VERSION: 1996 12
METADATA_DATE: 1999 4 8
DATA_FILE_SIZE: 42790680
BYTE_COUNT: 5620
