FILENAME: O4511116.NES.971428.tif
QUADRANGLE_NAME: MISER CREEK
QUADRANT: NE
WEST_LONGITUDE: -111 3 45.00000
EAST_LONGITUDE: -111 0 0.00000
NORTH_LATITUDE: 45 52 30.00000
SOUTH_LATITUDE: 45 48 45.00000
PRODUCTION_DATE: 1999 2 26
RASTER_ORDER: LEFT_RIGHT/TOP_BOTTOM
BAND_ORGANIZATION: SINGLE FILE
BAND_CONTENT: BLACK&WHITE
BAND_CONTENT: UNDEFINED
BAND_CONTENT: UNDEFINED
BITS_PER_PIXEL: 8
SAMPLES_AND_LINES: 5519 7557
HORIZONTAL_DATUM: NAD83
HORIZONTAL_COORDINATE_SYSTEM: UTM
COORDINATE_ZONE: 12
HORIZONTAL_UNITS: METERS
HORIZONTAL_RESOLUTION: 1.00000
SECONDARY_HORIZONTAL_DATUM: NAD27
XY_ORIGIN: 494782.00000 5080462.00000
SECONDARY_XY_ORIGIN: 494842.54500 5080251.90200
NATION: US
NATION: "SCIENCE
STATE: MT
NW_QUAD_CORNER_XY: 495149.59400 5080161.18600
NE_QUAD_CORNER_XY: 500000.00000 5080159.28700
SE_QUAD_CORNERY_XY: 500000.00000 5073215.29900
SW_QUAD_CORNER_XY: 495144.16000 5073217.19800
SECONDARY_NW_QUAD_XY: 495149.44800 5079943.30000
SECONDARY_NE_QUAD_XY: 500000.00000 5079941.40100
SECONDARY_SE_QUAD_XY: 500000.00000 5072997.45800
SECONDARY_SW_QUAD_XY: 495144.01400 5072999.35700
RMSE_XY: 2.00000
IMAGE_SOURCE: BLACK AND WHITE FILM
SOURCE_IMAGE_ID: NAPP 8376 085
SOURCE_IMAGE_DATE: 1995 08 15
SOURCE_DEM_DATE: 1997 00 00
AGENCY: WESTERN MAPPING CENTER (WMC)
PRODUCER: UNDEFINED
PRODUCTION_SYSTEM: GIS/MAGIC
COMPRESSION: UNDEFINED
STANDARD_VERSION: 1996 12
METADATA_DATE: 1999 03 01
DATA_FILE_SIZE: 41712602
BYTE_COUNT: 5519
