FILENAME: O4511114.NWS.971375.tif
QUADRANGLE_NAME: MANHATTAN
QUADRANT: NW
WEST_LONGITUDE: -111 22 30.00000
EAST_LONGITUDE: -111 18 45.00000
NORTH_LATITUDE: 45 52 30.00000
SOUTH_LATITUDE: 45 48 45.00000
PRODUCTION_DATE: 1999 2 26
RASTER_ORDER: LEFT_RIGHT/TOP_BOTTOM
BAND_ORGANIZATION: SINGLE FILE
BAND_CONTENT: BLACK&WHITE
BAND_CONTENT: UNDEFINED
BAND_CONTENT: UNDEFINED
BITS_PER_PIXEL: 8
SAMPLES_AND_LINES: 5547 7575
HORIZONTAL_DATUM: NAD83
HORIZONTAL_COORDINATE_SYSTEM: UTM
COORDINATE_ZONE: 12
HORIZONTAL_UNITS: METERS
HORIZONTAL_RESOLUTION: 1.00000
SECONDARY_HORIZONTAL_DATUM: NAD27
XY_ORIGIN: 470502.00000 5080528.00000
SECONDARY_XY_ORIGIN: 470562.88800 5080317.78700
NATION: US
NATION: "SCIENCE
STATE: MT
NW_QUAD_CORNER_XY: 470897.57100 5080227.65100
NE_QUAD_CORNER_XY: 475747.97400 5080206.76200
SE_QUAD_CORNERY_XY: 475720.80200 5073262.77700
SW_QUAD_CORNER_XY: 470864.96400 5073283.66700
SECONDARY_NW_QUAD_XY: 470896.69500 5080009.76800
SECONDARY_NE_QUAD_XY: 475747.24400 5079988.87800
SECONDARY_SE_QUAD_XY: 475720.07200 5073044.93700
SECONDARY_SW_QUAD_XY: 470864.08800 5073065.82800
RMSE_XY: 1.30000
IMAGE_SOURCE: BLACK AND WHITE FILM
SOURCE_IMAGE_ID: NAPP 8375 093
SOURCE_IMAGE_DATE: 1995 08 12
SOURCE_DEM_DATE: 1987 00 00
AGENCY: WESTERN MAPPING CENTER (WMC)
PRODUCER: UNDEFINED
PRODUCTION_SYSTEM: GIS/MAGIC
COMPRESSION: UNDEFINED
STANDARD_VERSION: 1996 12
METADATA_DATE: 1999 03 01
DATA_FILE_SIZE: 42024072
BYTE_COUNT: 5547
