FILENAME: O4511114.SES.971376.tif
QUADRANGLE_NAME: MANHATTAN
QUADRANT: SE
WEST_LONGITUDE: -111 18 45.00000
EAST_LONGITUDE: -111 15 0.00000
NORTH_LATITUDE: 45 48 45.00000
SOUTH_LATITUDE: 45 45 0.00000
PRODUCTION_DATE: 1999 2 26
RASTER_ORDER: LEFT_RIGHT/TOP_BOTTOM
BAND_ORGANIZATION: SINGLE FILE
BAND_CONTENT: BLACK&WHITE
BAND_CONTENT: UNDEFINED
BAND_CONTENT: UNDEFINED
BITS_PER_PIXEL: 8
SAMPLES_AND_LINES: 5547 7571
HORIZONTAL_DATUM: NAD83
HORIZONTAL_COORDINATE_SYSTEM: UTM
COORDINATE_ZONE: 12
HORIZONTAL_UNITS: METERS
HORIZONTAL_RESOLUTION: 1.00000
SECONDARY_HORIZONTAL_DATUM: NAD27
XY_ORIGIN: 475331.00000 5073563.00000
SECONDARY_XY_ORIGIN: 475391.84900 5073352.86200
NATION: US
NATION: "SCIENCE
STATE: MT
NW_QUAD_CORNER_XY: 475720.80200 5073262.77700
NE_QUAD_CORNER_XY: 480576.64000 5073245.68500
SE_QUAD_CORNERY_XY: 480554.92600 5066301.77500
SW_QUAD_CORNER_XY: 475693.65800 5066318.86800
SECONDARY_NW_QUAD_XY: 475720.07200 5073044.93700
SECONDARY_NE_QUAD_XY: 480576.05700 5073027.84400
SECONDARY_SE_QUAD_XY: 480554.34200 5066083.97900
SECONDARY_SW_QUAD_XY: 475692.92900 5066101.07300
RMSE_XY: 0.80000
IMAGE_SOURCE: BLACK AND WHITE FILM
SOURCE_IMAGE_ID: NAPP 8376 025
SOURCE_IMAGE_DATE: 1995 08 15
SOURCE_DEM_DATE: 1987 00 00
AGENCY: WESTERN MAPPING CENTER (WMC)
PRODUCER: UNDEFINED
PRODUCTION_SYSTEM: GIS/MAGIC
COMPRESSION: UNDEFINED
STANDARD_VERSION: 1996 12
METADATA_DATE: 1999 03 01
DATA_FILE_SIZE: 42001884
BYTE_COUNT: 5547
