FILENAME: O4511114.SWS.971377.tif
QUADRANGLE_NAME: MANHATTAN
QUADRANT: SW
WEST_LONGITUDE: -111 22 30.00000
EAST_LONGITUDE: -111 18 45.00000
NORTH_LATITUDE: 45 48 45.00000
SOUTH_LATITUDE: 45 45 0.00000
PRODUCTION_DATE: 1999 2 26
RASTER_ORDER: LEFT_RIGHT/TOP_BOTTOM
BAND_ORGANIZATION: SINGLE FILE
BAND_CONTENT: BLACK&WHITE
BAND_CONTENT: UNDEFINED
BAND_CONTENT: UNDEFINED
BITS_PER_PIXEL: 8
SAMPLES_AND_LINES: 5553 7575
HORIZONTAL_DATUM: NAD83
HORIZONTAL_COORDINATE_SYSTEM: UTM
COORDINATE_ZONE: 12
HORIZONTAL_UNITS: METERS
HORIZONTAL_RESOLUTION: 1.00000
SECONDARY_HORIZONTAL_DATUM: NAD27
XY_ORIGIN: 470469.00000 5073584.00000
SECONDARY_XY_ORIGIN: 470529.93600 5073373.82000
NATION: US
NATION: "SCIENCE
STATE: MT
NW_QUAD_CORNER_XY: 470864.96400 5073283.66700
NE_QUAD_CORNER_XY: 475720.80200 5073262.77700
SE_QUAD_CORNERY_XY: 475693.65800 5066318.86800
SW_QUAD_CORNER_XY: 470832.39200 5066339.76000
SECONDARY_NW_QUAD_XY: 470864.08800 5073065.82800
SECONDARY_NE_QUAD_XY: 475720.07200 5073044.93700
SECONDARY_SE_QUAD_XY: 475692.92900 5066101.07300
SECONDARY_SW_QUAD_XY: 470831.51600 5066121.96500
RMSE_XY: 1.20000
IMAGE_SOURCE: BLACK AND WHITE FILM
SOURCE_IMAGE_ID: NAPP 8375 091
SOURCE_IMAGE_DATE: 1995 08 12
SOURCE_DEM_DATE: 1987 00 00
AGENCY: WESTERN MAPPING CENTER (WMC)
PRODUCER: UNDEFINED
PRODUCTION_SYSTEM: GIS/MAGIC
COMPRESSION: UNDEFINED
STANDARD_VERSION: 1996 12
METADATA_DATE: 1999 03 01
DATA_FILE_SIZE: 42069528
BYTE_COUNT: 5553
