FILENAME: O4511111.SWS.998211.tif
QUADRANGLE_NAME: WILLOW CREEK
QUADRANT: SW
WEST_LONGITUDE: -111 45 0.00000
EAST_LONGITUDE: -111 41 15.00000
NORTH_LATITUDE: 45 48 45.00000
SOUTH_LATITUDE: 45 45 0.00000
PRODUCTION_DATE: 1999 4 19
RASTER_ORDER: LEFT_RIGHT/TOP_BOTTOM
BAND_ORGANIZATION: SINGLE FILE
BAND_CONTENT: BLACK&WHITE
BAND_CONTENT: UNDEFINED
BAND_CONTENT: UNDEFINED
BITS_PER_PIXEL: 8
SAMPLES_AND_LINES: 5584 7598
HORIZONTAL_DATUM: NAD83
HORIZONTAL_COORDINATE_SYSTEM: UTM
COORDINATE_ZONE: 12
HORIZONTAL_UNITS: METERS
HORIZONTAL_RESOLUTION: 1.00000
SECONDARY_HORIZONTAL_DATUM: NAD27
XY_ORIGIN: 441301.00000 5073790.00000
SECONDARY_XY_ORIGIN: 441362.45600 5073579.55000
NATION: US
STATE: MT
NW_QUAD_CORNER_XY: 441729.96100 5073488.77800
NE_QUAD_CORNER_XY: 446585.79100 5073445.09700
SE_QUAD_CORNERY_XY: 446526.07300 5066501.19800
SW_QUAD_CORNER_XY: 441664.81400 5066544.88200
SECONDARY_NW_QUAD_XY: 441728.21000 5073270.94500
SECONDARY_NE_QUAD_XY: 446584.18600 5073227.26200
SECONDARY_SE_QUAD_XY: 446524.46900 5066283.40800
SECONDARY_SW_QUAD_XY: 441663.06400 5066327.09400
RMSE_XY: 2.50000
IMAGE_SOURCE: BLACK AND WHITE FILM
SOURCE_IMAGE_ID: NAPP 8371 056
SOURCE_IMAGE_DATE: 1995 6 30
SOURCE_DEM_DATE: 1981 0 0
AGENCY: ROCKY MOUNTAIN MAPPING CENTER (RMMC)
PRODUCER: ROCKY MOUNTAIN MAPPING CENTER (RMMC)
PRODUCTION_SYSTEM: DV2.6.3 10/9OV2.4 5/95
COMPRESSION: UNDEFINED
STANDARD_VERSION: 1996 12
METADATA_DATE: 1999 4 20
DATA_FILE_SIZE: 42432816
BYTE_COUNT: 5584
