FILENAME: O4511110.SES.998242.tif
QUADRANGLE_NAME: SAPPINGTON
QUADRANT: SE
WEST_LONGITUDE: -111 48 45.00000
EAST_LONGITUDE: -111 45 0.00000
NORTH_LATITUDE: 45 48 45.00000
SOUTH_LATITUDE: 45 45 0.00000
PRODUCTION_DATE: 1999 4 9
RASTER_ORDER: LEFT_RIGHT/TOP_BOTTOM
BAND_ORGANIZATION: SINGLE FILE
BAND_CONTENT: BLACK&WHITE
BAND_CONTENT: UNDEFINED
BAND_CONTENT: UNDEFINED
BITS_PER_PIXEL: 8
SAMPLES_AND_LINES: 5592 7601
HORIZONTAL_DATUM: NAD83
HORIZONTAL_COORDINATE_SYSTEM: UTM
COORDINATE_ZONE: 12
HORIZONTAL_UNITS: METERS
HORIZONTAL_RESOLUTION: 1.00000
SECONDARY_HORIZONTAL_DATUM: NAD27
XY_ORIGIN: 436439.00000 5073837.00000
SECONDARY_XY_ORIGIN: 436500.50300 5073626.54700
NATION: US
STATE: MT
NW_QUAD_CORNER_XY: 436874.13200 5073536.25900
NE_QUAD_CORNER_XY: 441729.96100 5073488.77800
SE_QUAD_CORNERY_XY: 441664.81400 5066544.88200
SW_QUAD_CORNER_XY: 436803.55600 5066592.36500
SECONDARY_NW_QUAD_XY: 436872.23600 5073318.42700
SECONDARY_NE_QUAD_XY: 441728.21000 5073270.94500
SECONDARY_SE_QUAD_XY: 441663.06400 5066327.09400
SECONDARY_SW_QUAD_XY: 436801.66000 5066374.57800
RMSE_XY: 2.10000
IMAGE_SOURCE: BLACK AND WHITE FILM
SOURCE_IMAGE_ID: NAPP 8375 073
SOURCE_IMAGE_DATE: 1995 8 12
SOURCE_DEM_DATE: 1981 0 0
AGENCY: ROCKY MOUNTAIN MAPPING CENTER (RMMC)
PRODUCER: ROCKY MOUNTAIN MAPPING CENTER (RMMC)
PRODUCTION_SYSTEM: DV2.6.3 10/9OV2.4 5/95
COMPRESSION: UNDEFINED
STANDARD_VERSION: 1996 12
METADATA_DATE: 1999 4 9
DATA_FILE_SIZE: 42510384
BYTE_COUNT: 5592
