FILENAME: O4511108.SES.998270.tif
QUADRANGLE_NAME: FLATHEAD PASS
QUADRANT: SE
WEST_LONGITUDE: -111 3 45.00000
EAST_LONGITUDE: -111 0 0.00000
NORTH_LATITUDE: 45 56 15.00000
SOUTH_LATITUDE: 45 52 30.00000
PRODUCTION_DATE: 1999 4 23
RASTER_ORDER: LEFT_RIGHT/TOP_BOTTOM
BAND_ORGANIZATION: SINGLE FILE
BAND_CONTENT: BLACK&WHITE
BAND_CONTENT: UNDEFINED
BAND_CONTENT: UNDEFINED
BITS_PER_PIXEL: 8
SAMPLES_AND_LINES: 5512 7557
HORIZONTAL_DATUM: NAD83
HORIZONTAL_COORDINATE_SYSTEM: UTM
COORDINATE_ZONE: 12
HORIZONTAL_UNITS: METERS
HORIZONTAL_RESOLUTION: 1.00000
SECONDARY_HORIZONTAL_DATUM: NAD27
XY_ORIGIN: 494788.00000 5087406.00000
SECONDARY_XY_ORIGIN: 494848.48700 5087195.89500
NATION: US
STATE: MT
NW_QUAD_CORNER_XY: 495155.03400 5087105.25100
NE_QUAD_CORNER_XY: 500000.00000 5087103.35200
SE_QUAD_CORNERY_XY: 500000.00000 5080159.28800
SW_QUAD_CORNER_XY: 495149.59400 5080161.18600
SECONDARY_NW_QUAD_XY: 495154.88800 5086887.32200
SECONDARY_NE_QUAD_XY: 500000.00000 5086885.42300
SECONDARY_SE_QUAD_XY: 500000.00000 5079941.40200
SECONDARY_SW_QUAD_XY: 495149.44800 5079943.30100
RMSE_XY: 3.00000
IMAGE_SOURCE: BLACK AND WHITE FILM
SOURCE_IMAGE_ID: NAPP 8376 083
SOURCE_IMAGE_DATE: 1995 8 15
SOURCE_DEM_DATE: 1981 0 0
AGENCY: ROCKY MOUNTAIN MAPPING CENTER (RMMC)
PRODUCER: ROCKY MOUNTAIN MAPPING CENTER (RMMC)
PRODUCTION_SYSTEM: DV2.6.3 10/9OV2.4 5/95
COMPRESSION: UNDEFINED
STANDARD_VERSION: 1996 12
METADATA_DATE: 1999 4 23
DATA_FILE_SIZE: 41659696
BYTE_COUNT: 5512
