FILENAME: O4511108.SWS.998271.tif
QUADRANGLE_NAME: FLATHEAD PASS
QUADRANT: SW
WEST_LONGITUDE: -111 7 30.00000
EAST_LONGITUDE: -111 3 45.00000
NORTH_LATITUDE: 45 56 15.00000
SOUTH_LATITUDE: 45 52 30.00000
PRODUCTION_DATE: 1999 4 23
RASTER_ORDER: LEFT_RIGHT/TOP_BOTTOM
BAND_ORGANIZATION: SINGLE FILE
BAND_CONTENT: BLACK&WHITE
BAND_CONTENT: UNDEFINED
BAND_CONTENT: UNDEFINED
BITS_PER_PIXEL: 8
SAMPLES_AND_LINES: 5520 7561
HORIZONTAL_DATUM: NAD83
HORIZONTAL_COORDINATE_SYSTEM: UTM
COORDINATE_ZONE: 12
HORIZONTAL_UNITS: METERS
HORIZONTAL_RESOLUTION: 1.00000
SECONDARY_HORIZONTAL_DATUM: NAD27
XY_ORIGIN: 489937.00000 5087412.00000
SECONDARY_XY_ORIGIN: 489997.54800 5087201.87800
NATION: US
STATE: MT
NW_QUAD_CORNER_XY: 490310.06900 5087110.94700
NE_QUAD_CORNER_XY: 495155.03400 5087105.25100
SE_QUAD_CORNERY_XY: 495149.59400 5080161.18600
SW_QUAD_CORNER_XY: 490299.18800 5080166.88400
SECONDARY_NW_QUAD_XY: 490309.77700 5086893.01800
SECONDARY_NE_QUAD_XY: 495154.88800 5086887.32200
SECONDARY_SE_QUAD_XY: 495149.44800 5079943.30100
SECONDARY_SW_QUAD_XY: 490298.89600 5079948.99800
RMSE_XY: 2.60000
IMAGE_SOURCE: BLACK AND WHITE FILM
SOURCE_IMAGE_ID: NAPP 8376 076
SOURCE_IMAGE_DATE: 1995 8 15
SOURCE_DEM_DATE: 1981 0 0
AGENCY: ROCKY MOUNTAIN MAPPING CENTER (RMMC)
PRODUCER: ROCKY MOUNTAIN MAPPING CENTER (RMMC)
PRODUCTION_SYSTEM: DV2.6.3 10/9OV2.4 5/95
COMPRESSION: UNDEFINED
STANDARD_VERSION: 1996 12
METADATA_DATE: 1999 4 23
DATA_FILE_SIZE: 41742240
BYTE_COUNT: 5520
