FILENAME: O4511104.SWS.998234.tif
QUADRANGLE_NAME: THREE FORKS
QUADRANT: SW
WEST_LONGITUDE: -111 37 30.00000
EAST_LONGITUDE: -111 33 45.00000
NORTH_LATITUDE: 45 56 15.00000
SOUTH_LATITUDE: 45 52 30.00000
PRODUCTION_DATE: 1999 4 12
RASTER_ORDER: LEFT_RIGHT/TOP_BOTTOM
BAND_ORGANIZATION: SINGLE FILE
BAND_CONTENT: BLACK&WHITE
BAND_CONTENT: UNDEFINED
BAND_CONTENT: UNDEFINED
BITS_PER_PIXEL: 8
SAMPLES_AND_LINES: 5564 7590
HORIZONTAL_DATUM: NAD83
HORIZONTAL_COORDINATE_SYSTEM: UTM
COORDINATE_ZONE: 12
HORIZONTAL_UNITS: METERS
HORIZONTAL_RESOLUTION: 1.00000
SECONDARY_HORIZONTAL_DATUM: NAD27
XY_ORIGIN: 451132.00000 5087594.00000
SECONDARY_XY_ORIGIN: 451193.17600 5087383.58200
NATION: US
STATE: MT
NW_QUAD_CORNER_XY: 451550.37300 5087293.24200
NE_QUAD_CORNER_XY: 456395.33100 5087257.16200
SE_QUAD_CORNERY_XY: 456346.36700 5080313.10800
SW_QUAD_CORNER_XY: 451495.96900 5080349.19000
SECONDARY_NW_QUAD_XY: 451548.91400 5087075.31900
SECONDARY_NE_QUAD_XY: 456394.01700 5087039.23800
SECONDARY_SE_QUAD_XY: 456345.05400 5080095.22700
SECONDARY_SW_QUAD_XY: 451494.51000 5080131.31000
RMSE_XY: 1.90000
IMAGE_SOURCE: BLACK AND WHITE FILM
SOURCE_IMAGE_ID: NAPP 8371 126
SOURCE_IMAGE_DATE: 1995 6 30
SOURCE_DEM_DATE: 1981 0 0
AGENCY: ROCKY MOUNTAIN MAPPING CENTER (RMMC)
PRODUCER: ROCKY MOUNTAIN MAPPING CENTER (RMMC)
PRODUCTION_SYSTEM: DV2.6.3 10/9OV2.4 5/95
COMPRESSION: UNDEFINED
STANDARD_VERSION: 1996 12
METADATA_DATE: 1999 4 13
DATA_FILE_SIZE: 42236324
BYTE_COUNT: 5564
