FILENAME: O4511103.SWS.998191.tif
QUADRANGLE_NAME: MILLIGAN CANYON
QUADRANT: SW
WEST_LONGITUDE: -111 45 0.00000
EAST_LONGITUDE: -111 41 15.00000
NORTH_LATITUDE: 45 56 15.00000
SOUTH_LATITUDE: 45 52 30.00000
PRODUCTION_DATE: 1999 4 13
RASTER_ORDER: LEFT_RIGHT/TOP_BOTTOM
BAND_ORGANIZATION: SINGLE FILE
BAND_CONTENT: BLACK&WHITE
BAND_CONTENT: UNDEFINED
BAND_CONTENT: UNDEFINED
BITS_PER_PIXEL: 8
SAMPLES_AND_LINES: 5576 7598
HORIZONTAL_DATUM: NAD83
HORIZONTAL_COORDINATE_SYSTEM: UTM
COORDINATE_ZONE: 12
HORIZONTAL_UNITS: METERS
HORIZONTAL_RESOLUTION: 1.00000
SECONDARY_HORIZONTAL_DATUM: NAD27
XY_ORIGIN: 441431.00000 5087678.00000
SECONDARY_XY_ORIGIN: 441492.00000 5087468.00000
NATION: US
STATE: MT
NW_QUAD_CORNER_XY: 441860.46400 5087376.79600
NE_QUAD_CORNER_XY: 446705.41800 5087333.12000
SE_QUAD_CORNERY_XY: 446645.57200 5080389.07100
SW_QUAD_CORNER_XY: 441795.17700 5080432.75000
SECONDARY_NW_QUAD_XY: 441858.71200 5087158.87500
SECONDARY_NE_QUAD_XY: 446703.81200 5087115.19800
SECONDARY_SE_QUAD_XY: 446643.96700 5080171.19200
SECONDARY_SW_QUAD_XY: 441793.42600 5080214.87200
RMSE_XY: 1.90000
IMAGE_SOURCE: BLACK AND WHITE FILM
SOURCE_IMAGE_ID: NAPP 8371 060
SOURCE_IMAGE_DATE: 1995 6 30
SOURCE_DEM_DATE: 1981 0 0
AGENCY: ROCKY MOUNTAIN MAPPING CENTER (RMMC)
PRODUCER: ROCKY MOUNTAIN MAPPING CENTER (RMMC)
PRODUCTION_SYSTEM: DV2.6.3 10/9OV2.4 5/95
COMPRESSION: UNDEFINED
STANDARD_VERSION: 1996 12
METADATA_DATE: 1999 4 13
DATA_FILE_SIZE: 42372024
BYTE_COUNT: 5576
