FILENAME: O4511263.NWS.789325.tif
QUADRANGLE_NAME: BELMONT PARK RANCH
QUADRANT: NW
WEST_LONGITUDE: -112 15 0.00000
EAST_LONGITUDE: -112 11 15.00000
NORTH_LATITUDE: 45 7 30.00000
SOUTH_LATITUDE: 45 3 45.00000
PRODUCTION_DATE: 1997 11 18
RASTER_ORDER: LEFT_RIGHT/TOP_BOTTOM
BAND_ORGANIZATION: SINGLE FILE
BAND_CONTENT: BLACK&WHITE
BAND_CONTENT: UNDEFINED
BAND_CONTENT: UNDEFINED
BITS_PER_PIXEL: 8
SAMPLES_AND_LINES: 5688 7625
HORIZONTAL_DATUM: NAD83
HORIZONTAL_COORDINATE_SYSTEM: UTM
COORDINATE_ZONE: 12
HORIZONTAL_UNITS: METERS
HORIZONTAL_RESOLUTION: 1.00000
SECONDARY_HORIZONTAL_DATUM: NAD27
XY_ORIGIN: 401223.55300 4997895.93900
SECONDARY_XY_ORIGIN: 401285.68300 4997686.52900
NATION: US
STATE: MT
NW_QUAD_CORNER_XY: 401695.35100 4997596.43900
NE_QUAD_CORNER_XY: 406610.58100 4997522.33600
SE_QUAD_CORNERY_XY: 406508.64700 4990579.26700
SW_QUAD_CORNER_XY: 401588.05000 4990653.36900
SECONDARY_NW_QUAD_XY: 401692.44100 4997379.16100
SECONDARY_NE_QUAD_XY: 406607.81700 4997305.05600
SECONDARY_SE_QUAD_XY: 406505.88400 4990362.04100
SECONDARY_SW_QUAD_XY: 401585.14100 4990436.14600
RMSE_XY: 2.60000
IMAGE_SOURCE: BLACK AND WHITE FILM
SOURCE_IMAGE_ID: NAPP 9484 176
SOURCE_IMAGE_DATE: 1995 8 14
SOURCE_DEM_DATE: 1997 11 18
AGENCY: WESTERN MAPPING CENTER (WMC)
PRODUCER: NIES MAPPING GROUP
PRODUCTION_SYSTEM: INTERGRAPH- ISPM,ISIR
COMPRESSION: UNDEFINED
STANDARD_VERSION: 1996 12
METADATA_DATE: 1998 2 27
DATA_FILE_SIZE: 43376688
BYTE_COUNT: 5688
