FILENAME: O4511261.NWS.789310.tif
QUADRANGLE_NAME: ELK GULCH
QUADRANT: NW
WEST_LONGITUDE: -112 30 0.00000
EAST_LONGITUDE: -112 26 15.00000
NORTH_LATITUDE: 45 7 30.00000
SOUTH_LATITUDE: 45 3 45.00000
PRODUCTION_DATE: 1997 11 18
RASTER_ORDER: LEFT_RIGHT/TOP_BOTTOM
BAND_ORGANIZATION: SINGLE FILE
BAND_CONTENT: BLACK&WHITE
BAND_CONTENT: UNDEFINED
BAND_CONTENT: UNDEFINED
BITS_PER_PIXEL: 8
SAMPLES_AND_LINES: 5711 7640
HORIZONTAL_DATUM: NAD83
HORIZONTAL_COORDINATE_SYSTEM: UTM
COORDINATE_ZONE: 12
HORIZONTAL_UNITS: METERS
HORIZONTAL_RESOLUTION: 1.00000
SECONDARY_HORIZONTAL_DATUM: NAD27
XY_ORIGIN: 381539.64800 4998230.36400
SECONDARY_XY_ORIGIN: 381602.71700 4998020.83300
NATION: US
STATE: MT
NW_QUAD_CORNER_XY: 382034.43200 4997930.86400
NE_QUAD_CORNER_XY: 386949.66100 4997841.55500
SE_QUAD_CORNERY_XY: 386826.25900 4990898.48600
SW_QUAD_CORNER_XY: 381905.66300 4990987.79600
SECONDARY_NW_QUAD_XY: 382030.94100 4997713.59600
SECONDARY_NE_QUAD_XY: 386946.31500 4997624.28400
SECONDARY_SE_QUAD_XY: 386822.91400 4990681.27000
SECONDARY_SW_QUAD_XY: 381902.17200 4990770.58200
RMSE_XY: 3.50000
IMAGE_SOURCE: BLACK AND WHITE FILM
SOURCE_IMAGE_ID: NAPP 9485 233
SOURCE_IMAGE_DATE: 1995 8 20
SOURCE_DEM_DATE: 1997 11 18
AGENCY: WESTERN MAPPING CENTER (WMC)
PRODUCER: NIES MAPPING GROUP
PRODUCTION_SYSTEM: INTERGRAPH- ISPM,ISIR
COMPRESSION: UNDEFINED
STANDARD_VERSION: 1996 12
METADATA_DATE: 1998 2 27
DATA_FILE_SIZE: 43637751
BYTE_COUNT: 5711
