FILENAME: O4511257.SES.1076698.tif
QUADRANGLE_NAME: ELI SPRING
QUADRANT: SE
WEST_LONGITUDE: -112 56 15.00000
EAST_LONGITUDE: -112 52 30.00000
NORTH_LATITUDE: 45 3 45.00000
SOUTH_LATITUDE: 45 0 0.00000
PRODUCTION_DATE: 2000 5 18
RASTER_ORDER: LEFT_RIGHT/TOP_BOTTOM
BAND_ORGANIZATION: SINGLE FILE
BAND_CONTENT: BLACK&WHITE
BAND_CONTENT: UNDEFINED
BAND_CONTENT: UNDEFINED
BITS_PER_PIXEL: 8
SAMPLES_AND_LINES: 5758 7669
HORIZONTAL_DATUM: NAD83
HORIZONTAL_COORDINATE_SYSTEM: UTM
COORDINATE_ZONE: 12
HORIZONTAL_UNITS: METERS
HORIZONTAL_RESOLUTION: 1.00000
SECONDARY_HORIZONTAL_DATUM: NAD27
XY_ORIGIN: 346926.00000 4992020.00000
SECONDARY_XY_ORIGIN: 346989.68200 4991809.82600
NATION: US
NATION: "SCIENCE
STATE: MT
NW_QUAD_CORNER_XY: 347461.49000 4991719.43500
NE_QUAD_CORNER_XY: 352382.08600 4991603.50500
SE_QUAD_CORNERY_XY: 352221.27900 4984660.50800
SW_QUAD_CORNER_XY: 347295.31900 4984776.43700
SECONDARY_NW_QUAD_XY: 347456.98100 4991502.24300
SECONDARY_NE_QUAD_XY: 352377.72200 4991386.31000
SECONDARY_SE_QUAD_XY: 352216.91700 4984443.36700
SECONDARY_SW_QUAD_XY: 347290.81200 4984559.30000
RMSE_XY: 1.40000
IMAGE_SOURCE: BLACK AND WHITE FILM
SOURCE_IMAGE_ID: NAPP 9483 174
SOURCE_IMAGE_DATE: 1995 08 14
SOURCE_IMAGE_ID: NAPP 9485 144
SOURCE_IMAGE_DATE: 1995 08 20
SOURCE_IMAGE_ID: NAPP 9483 175
SOURCE_IMAGE_DATE: 1995 08 14
SOURCE_IMAGE_ID: NAPP 9483 173
SOURCE_IMAGE_DATE: 1995 08 14
SOURCE_DEM_DATE: 1950 00 00
AGENCY: WESTERN MAPPING CENTER (WMC)
PRODUCER: UNDEFINED
PRODUCTION_SYSTEM: GIS/MAGIC
COMPRESSION: UNDEFINED
STANDARD_VERSION: 1996 12
METADATA_DATE: 2000 05 25
DATA_FILE_SIZE: 44163860
BYTE_COUNT: 5758
