FILENAME: O4511256.SWS.789280.tif
QUADRANGLE_NAME: RUBY DAM
QUADRANT: SW
WEST_LONGITUDE: -112 7 30.00000
EAST_LONGITUDE: -112 3 45.00000
NORTH_LATITUDE: 45 11 15.00000
SOUTH_LATITUDE: 45 7 30.00000
PRODUCTION_DATE: 1997 11 20
RASTER_ORDER: LEFT_RIGHT/TOP_BOTTOM
BAND_ORGANIZATION: SINGLE FILE
BAND_CONTENT: BLACK&WHITE
BAND_CONTENT: UNDEFINED
BAND_CONTENT: UNDEFINED
BITS_PER_PIXEL: 8
SAMPLES_AND_LINES: 5671 7618
HORIZONTAL_DATUM: NAD83
HORIZONTAL_COORDINATE_SYSTEM: UTM
COORDINATE_ZONE: 12
HORIZONTAL_UNITS: METERS
HORIZONTAL_RESOLUTION: 1.00000
SECONDARY_HORIZONTAL_DATUM: NAD27
XY_ORIGIN: 411161.97400 5004694.67900
SECONDARY_XY_ORIGIN: 411223.79700 5004485.06900
NATION: US
STATE: MT
NW_QUAD_CORNER_XY: 411622.48500 5004395.17900
NE_QUAD_CORNER_XY: 416532.34400 5004328.67900
SE_QUAD_CORNERY_XY: 416441.04300 4997385.53500
SW_QUAD_CORNER_XY: 411525.81200 4997452.03500
SECONDARY_NW_QUAD_XY: 411619.86600 5004177.84300
SECONDARY_NE_QUAD_XY: 416529.87100 5004111.34100
SECONDARY_SE_QUAD_XY: 416438.57000 4997168.25100
SECONDARY_SW_QUAD_XY: 411523.19300 4997234.75300
RMSE_XY: 3.50000
IMAGE_SOURCE: BLACK AND WHITE FILM
SOURCE_IMAGE_ID: NAPP 9484 256
SOURCE_IMAGE_DATE: 1995 8 14
SOURCE_DEM_DATE: 1997 11 20
AGENCY: WESTERN MAPPING CENTER (WMC)
PRODUCER: NIES MAPPING GROUP
PRODUCTION_SYSTEM: INTERGRAPH- ISPM,ISIR
COMPRESSION: UNDEFINED
STANDARD_VERSION: 1996 12
METADATA_DATE: 1998 2 20
DATA_FILE_SIZE: 43207349
BYTE_COUNT: 5671
