FILENAME: O4511253.NWS.789250.tif
QUADRANGLE_NAME: CHRISTENSEN RANCH
QUADRANT: NW
WEST_LONGITUDE: -112 30 0.00000
EAST_LONGITUDE: -112 26 15.00000
NORTH_LATITUDE: 45 15 0.00000
SOUTH_LATITUDE: 45 11 15.00000
PRODUCTION_DATE: 1997 11 13
RASTER_ORDER: LEFT_RIGHT/TOP_BOTTOM
BAND_ORGANIZATION: SINGLE FILE
BAND_CONTENT: BLACK&WHITE
BAND_CONTENT: UNDEFINED
BAND_CONTENT: UNDEFINED
BITS_PER_PIXEL: 8
SAMPLES_AND_LINES: 5700 7640
HORIZONTAL_DATUM: NAD83
HORIZONTAL_COORDINATE_SYSTEM: UTM
COORDINATE_ZONE: 12
HORIZONTAL_UNITS: METERS
HORIZONTAL_RESOLUTION: 1.00000
SECONDARY_HORIZONTAL_DATUM: NAD27
XY_ORIGIN: 381797.26100 5012116.71300
SECONDARY_XY_ORIGIN: 381860.38800 5011906.85400
NATION: US
STATE: MT
NW_QUAD_CORNER_XY: 382292.39600 5011817.21300
NE_QUAD_CORNER_XY: 387196.87200 5011727.90600
SE_QUAD_CORNERY_XY: 387073.19900 5004784.69500
SW_QUAD_CORNER_XY: 382163.34400 5004874.00300
SECONDARY_NW_QUAD_XY: 382288.90200 5011599.83900
SECONDARY_NE_QUAD_XY: 387193.52400 5011510.53000
SECONDARY_SE_QUAD_XY: 387069.85200 5004567.37100
SECONDARY_SW_QUAD_XY: 382159.85100 5004656.68200
RMSE_XY: 0.90000
IMAGE_SOURCE: BLACK AND WHITE FILM
SOURCE_IMAGE_ID: NAPP 8382 195
SOURCE_IMAGE_DATE: 1995 8 1
SOURCE_DEM_DATE: 1997 11 13
AGENCY: WESTERN MAPPING CENTER (WMC)
PRODUCER: NIES MAPPING GROUP
PRODUCTION_SYSTEM: INTERGRAPH- ISPM,ISIR
COMPRESSION: UNDEFINED
STANDARD_VERSION: 1996 12
METADATA_DATE: 1998 2 10
DATA_FILE_SIZE: 43553700
BYTE_COUNT: 5700
