FILENAME: O4511253.SWS.789252.tif
QUADRANGLE_NAME: CHRISTENSEN RANCH
QUADRANT: SW
WEST_LONGITUDE: -112 30 0.00000
EAST_LONGITUDE: -112 26 15.00000
NORTH_LATITUDE: 45 11 15.00000
SOUTH_LATITUDE: 45 7 30.00000
PRODUCTION_DATE: 1997 11 13
RASTER_ORDER: LEFT_RIGHT/TOP_BOTTOM
BAND_ORGANIZATION: SINGLE FILE
BAND_CONTENT: BLACK&WHITE
BAND_CONTENT: UNDEFINED
BAND_CONTENT: UNDEFINED
BITS_PER_PIXEL: 8
SAMPLES_AND_LINES: 5705 7640
HORIZONTAL_DATUM: NAD83
HORIZONTAL_COORDINATE_SYSTEM: UTM
COORDINATE_ZONE: 12
HORIZONTAL_UNITS: METERS
HORIZONTAL_RESOLUTION: 1.00000
SECONDARY_HORIZONTAL_DATUM: NAD27
XY_ORIGIN: 381668.38400 5005173.50300
SECONDARY_XY_ORIGIN: 381731.48600 5004963.80800
NATION: US
STATE: MT
NW_QUAD_CORNER_XY: 382163.34400 5004874.00300
NE_QUAD_CORNER_XY: 387073.19900 5004784.69500
SE_QUAD_CORNERY_XY: 386949.66100 4997841.55500
SW_QUAD_CORNER_XY: 382034.43200 4997930.86400
SECONDARY_NW_QUAD_XY: 382159.85100 5004656.68200
SECONDARY_NE_QUAD_XY: 387069.85200 5004567.37100
SECONDARY_SE_QUAD_XY: 386946.31500 4997624.28400
SECONDARY_SW_QUAD_XY: 382030.94100 4997713.59600
RMSE_XY: 2.20000
IMAGE_SOURCE: BLACK AND WHITE FILM
SOURCE_IMAGE_ID: NAPP 8382 197
SOURCE_IMAGE_DATE: 1995 8 1
SOURCE_DEM_DATE: 1997 11 13
AGENCY: WESTERN MAPPING CENTER (WMC)
PRODUCER: NIES MAPPING GROUP
PRODUCTION_SYSTEM: INTERGRAPH- ISPM,ISIR
COMPRESSION: UNDEFINED
STANDARD_VERSION: 1996 12
METADATA_DATE: 1998 2 10
DATA_FILE_SIZE: 43591905
BYTE_COUNT: 5705
