FILENAME: O4511248.NWS.789266.tif
QUADRANGLE_NAME: ALDER
QUADRANT: NW
WEST_LONGITUDE: -112 7 30.00000
EAST_LONGITUDE: -112 3 45.00000
NORTH_LATITUDE: 45 22 30.00000
SOUTH_LATITUDE: 45 18 45.00000
PRODUCTION_DATE: 1997 11 20
RASTER_ORDER: LEFT_RIGHT/TOP_BOTTOM
BAND_ORGANIZATION: SINGLE FILE
BAND_CONTENT: BLACK&WHITE
BAND_CONTENT: UNDEFINED
BAND_CONTENT: UNDEFINED
BITS_PER_PIXEL: 8
SAMPLES_AND_LINES: 5655 7617
HORIZONTAL_DATUM: NAD83
HORIZONTAL_COORDINATE_SYSTEM: UTM
COORDINATE_ZONE: 12
HORIZONTAL_UNITS: METERS
HORIZONTAL_RESOLUTION: 1.00000
SECONDARY_HORIZONTAL_DATUM: NAD27
XY_ORIGIN: 411452.14900 5025524.54900
SECONDARY_XY_ORIGIN: 411514.02200 5025314.52200
NATION: US
STATE: MT
NW_QUAD_CORNER_XY: 411913.14100 5025225.04900
NE_QUAD_CORNER_XY: 416806.84900 5025158.55300
SE_QUAD_CORNERY_XY: 416715.24700 5018215.18800
SW_QUAD_CORNER_XY: 411816.15000 5018281.68500
SECONDARY_NW_QUAD_XY: 411910.52000 5025007.55800
SECONDARY_NE_QUAD_XY: 416804.37300 5024941.06000
SECONDARY_SE_QUAD_XY: 416712.77200 5017997.74600
SECONDARY_SW_QUAD_XY: 411813.52900 5018064.24600
RMSE_XY: 1.80000
IMAGE_SOURCE: BLACK AND WHITE FILM
SOURCE_IMAGE_ID: NAPP 9484 250
SOURCE_IMAGE_DATE: 1995 8 14
SOURCE_DEM_DATE: 1997 11 20
AGENCY: WESTERN MAPPING CENTER (WMC)
PRODUCER: NIES MAPPING GROUP
PRODUCTION_SYSTEM: INTERGRAPH- ISPM,ISIR
COMPRESSION: UNDEFINED
STANDARD_VERSION: 1996 12
METADATA_DATE: 1998 2 20
DATA_FILE_SIZE: 43079790
BYTE_COUNT: 5655
