FILENAME: O4511246.SWS.789248.tif
QUADRANGLE_NAME: BEAVERHEAD ROCK SE
QUADRANT: SW
WEST_LONGITUDE: -112 22 30.00000
EAST_LONGITUDE: -112 18 45.00000
NORTH_LATITUDE: 45 18 45.00000
SOUTH_LATITUDE: 45 15 0.00000
PRODUCTION_DATE: 1997 11 17
RASTER_ORDER: LEFT_RIGHT/TOP_BOTTOM
BAND_ORGANIZATION: SINGLE FILE
BAND_CONTENT: BLACK&WHITE
BAND_CONTENT: UNDEFINED
BAND_CONTENT: UNDEFINED
BITS_PER_PIXEL: 8
SAMPLES_AND_LINES: 5683 7633
HORIZONTAL_DATUM: NAD83
HORIZONTAL_COORDINATE_SYSTEM: UTM
COORDINATE_ZONE: 12
HORIZONTAL_UNITS: METERS
HORIZONTAL_RESOLUTION: 1.00000
SECONDARY_HORIZONTAL_DATUM: NAD27
XY_ORIGIN: 391736.00900 5018885.18600
SECONDARY_XY_ORIGIN: 391798.56700 5018675.21200
NATION: US
STATE: MT
NW_QUAD_CORNER_XY: 392219.77100 5018585.68600
NE_QUAD_CORNER_XY: 397118.86400 5018503.98400
SE_QUAD_CORNERY_XY: 397005.82600 5011560.69800
SW_QUAD_CORNER_XY: 392101.34800 5011642.40100
SECONDARY_NW_QUAD_XY: 392216.56800 5018368.25500
SECONDARY_NE_QUAD_XY: 397115.80700 5018286.55100
SECONDARY_SE_QUAD_XY: 397002.77000 5011343.31600
SECONDARY_SW_QUAD_XY: 392098.14600 5011425.02200
RMSE_XY: 5.00000
IMAGE_SOURCE: BLACK AND WHITE FILM
SOURCE_IMAGE_ID: NAPP 9484 40
SOURCE_IMAGE_DATE: 1995 8 14
SOURCE_DEM_DATE: 1997 11 17
AGENCY: WESTERN MAPPING CENTER (WMC)
PRODUCER: NIES MAPPING GROUP
PRODUCTION_SYSTEM: INTERGRAPH- ISPM,ISIR
COMPRESSION: UNDEFINED
STANDARD_VERSION: 1996 12
METADATA_DATE: 1998 2 10
DATA_FILE_SIZE: 43384022
BYTE_COUNT: 5683
